BEGIN:VCALENDAR
VERSION:2.0
PRODID:-//STRAWANZERIN - ECPv4.9.5//NONSGML v1.0//EN
CALSCALE:GREGORIAN
METHOD:PUBLISH
X-WR-CALNAME:STRAWANZERIN
X-ORIGINAL-URL:https://www.strawanzerin.at
X-WR-CALDESC:Veranstaltungen im STRAWANZERIN
BEGIN:VTIMEZONE
TZID:"Europe/Vienna"
BEGIN:DAYLIGHT
TZOFFSETFROM:+0100
TZOFFSETTO:+0200
TZNAME:CEST
DTSTART:20220327T010000
END:DAYLIGHT
BEGIN:STANDARD
TZOFFSETFROM:+0200
TZOFFSETTO:+0100
TZNAME:CET
DTSTART:20221030T010000
END:STANDARD
END:VTIMEZONE
BEGIN:VEVENT
DTSTART;TZID="Europe/Vienna":20221215T193000
DTEND;TZID="Europe/Vienna":20221215T213000
DTSTAMP:20260419T134256
CREATED:20221108T133837Z
LAST-MODIFIED:20221110T114009Z
UID:87805-1671132600-1671139800@www.strawanzerin.at
SUMMARY:American Gospel mit 4Real feat. Shelia Michellé
DESCRIPTION:Gospelkonzert in Kottingbrunn stimmt auf Weihnachten ein \nDie gefeierte internationale Gospel-Formation 4REAL macht auf ihrer ausgedehnten Österreich-Tour am Donnerstag\, dem 15. Dezember 2022\, um 19:30 Uhr in der Kulturszene Kottingbrunn Station. Passend zum Advent entzündet Lead-Sängerin Shelia Michellè gemeinsam mit ihren atemberaubenden Gast-Vokalist:innen aus den Staaten und dem Organisten\, Arrangeur und Produzenten Helmut Reiter ein Feuerwerk an traditionellen Gospel-Hits und brandneuen Songs.  \nInfo:\nTel.: 02252 74383  \nBild: 4Real feat. Shelia Michellé\, Foto/© Backheads Music \n
URL:https://www.strawanzerin.at/termin/american-gospel-mit-4real-feat-shelia-michelle/
LOCATION:Kulturszene Kottingbrunn\, Schloss 1\, 2542 Kottingbrunn \, Kottingbrunn\, 2542\, Österreich
CATEGORIES:ab 7,Kunst/Kultur,Musik,Niederösterreich
ATTACH;FMTTYPE=image/jpeg:https://www.strawanzerin.at/wp-content/uploads/2022/11/kulturszene-kottingbrunn-4Real-Gospelkonzert-preview-Kopie.jpg
GEO:47.9511536;16.2305035
X-APPLE-STRUCTURED-LOCATION;VALUE=URI;X-ADDRESS=Kulturszene Kottingbrunn Schloss 1 2542 Kottingbrunn  Kottingbrunn 2542 Österreich;X-APPLE-RADIUS=500;X-TITLE=Schloss 1\, 2542 Kottingbrunn:geo:16.2305035,47.9511536
END:VEVENT
END:VCALENDAR