BEGIN:VCALENDAR
VERSION:2.0
PRODID:-//STRAWANZERIN - ECPv4.9.5//NONSGML v1.0//EN
CALSCALE:GREGORIAN
METHOD:PUBLISH
X-WR-CALNAME:STRAWANZERIN
X-ORIGINAL-URL:https://www.strawanzerin.at
X-WR-CALDESC:Veranstaltungen im STRAWANZERIN
BEGIN:VTIMEZONE
TZID:"Europe/Vienna"
BEGIN:DAYLIGHT
TZOFFSETFROM:+0100
TZOFFSETTO:+0200
TZNAME:CEST
DTSTART:20180325T010000
END:DAYLIGHT
BEGIN:STANDARD
TZOFFSETFROM:+0200
TZOFFSETTO:+0100
TZNAME:CET
DTSTART:20181028T010000
END:STANDARD
END:VTIMEZONE
BEGIN:VEVENT
DTSTART;TZID="Europe/Vienna":20181214T193000
DTEND;TZID="Europe/Vienna":20181214T213000
DTSTAMP:20260420T200453
CREATED:20190102T142055Z
LAST-MODIFIED:20190102T142055Z
UID:61354-1544815800-1544823000@www.strawanzerin.at
SUMMARY:AMERIKA von Franz Kafka
DESCRIPTION:„Amerika“ ist eine Lektion der Demut. \nKarl Rossmann\, 17\, Emigrant\, ein Neugeborener im „Land der Verheißung“ (denn Amerika bleibt das Land der Verheißung\, nicht der Erfüllung)\, begegnet einem Landbesitzer\, einem Wanderer\, einem Verlierer des amerikanischen Traums\, der doch reich an Erfahrung ist und mit Sarkasmus den Film seiner zukünftigen Misserfolge projiziert. \nEine schmerzhafte Kette von verletzten Träumen\, verpassten Gelegenheiten\, erlittenen Ungerechtigkeiten und Demütigungen wird von Rossmanns Landsmann (der sein tägliches Brot als Straßenmaler verdient) furios beschrieben\, gespielt\, eifrig einstudiert. \nFlexibel im Geschichtenerzählen und unerbittlich in der Botschaft\, identifiziert er sich mit all den Charakteren\, die den „american dream“ des naiven Immigranten-Grünschnabels entwirren werden. \nEin Theaterstück im Theater\, in welchem der Maler in Komplizenschaft mit dem Publikum die dolorose Lektion über die Erniedrigung eines Auswanderers abgibt. \nBesetzung\nStraßenmaler – Philipp KAPLAN\nKarl Rossmann – Vlad GAVRIS \nDramatisierung – Geirun TINO \nRegie & Ausstattung – Geirun TINO \nRegieassistenz – Tarja KRIESCHE \n
URL:https://www.strawanzerin.at/termin/amerika-von-franz-kafka/2018-12-14/
LOCATION:Pygmalion Theater\, Alser Straße 43\, Wien\, Wien\, 1080\, Österreich
CATEGORIES:Theater/Kabarett
ATTACH;FMTTYPE=image/png:https://www.strawanzerin.at/wp-content/uploads/2018/12/Plakat-Amerika-2018_2000x2800.png
ORGANIZER;CN="Pygmalion%20Theater%20Wien":MAILTO:info@pygmaliontheater.at
GEO:48.215118;16.3471293
X-APPLE-STRUCTURED-LOCATION;VALUE=URI;X-ADDRESS=Pygmalion Theater Alser Straße 43 Wien Wien 1080 Österreich;X-APPLE-RADIUS=500;X-TITLE=Alser Straße 43:geo:16.3471293,48.215118
END:VEVENT
END:VCALENDAR