BEGIN:VCALENDAR
VERSION:2.0
PRODID:-//STRAWANZERIN - ECPv4.9.5//NONSGML v1.0//EN
CALSCALE:GREGORIAN
METHOD:PUBLISH
X-WR-CALNAME:STRAWANZERIN
X-ORIGINAL-URL:https://www.strawanzerin.at
X-WR-CALDESC:Veranstaltungen im STRAWANZERIN
BEGIN:VTIMEZONE
TZID:"Europe/Helsinki"
BEGIN:DAYLIGHT
TZOFFSETFROM:+0200
TZOFFSETTO:+0300
TZNAME:EEST
DTSTART:20150329T010000
END:DAYLIGHT
BEGIN:STANDARD
TZOFFSETFROM:+0300
TZOFFSETTO:+0200
TZNAME:EET
DTSTART:20151025T010000
END:STANDARD
END:VTIMEZONE
BEGIN:VEVENT
DTSTART;TZID="Europe/Helsinki":20150311T200000
DTEND;TZID="Europe/Helsinki":20150311T212000
DTSTAMP:20260421T121414
CREATED:20150213T155343Z
LAST-MODIFIED:20150309T142117Z
UID:11182-1426104000-1426108800@www.strawanzerin.at
SUMMARY:ANGRY YOUNG MEN
DESCRIPTION:Vor Wut über die herrschenden Verhältnisse gelähmt\, steht er da. Schimpft über „die da oben“ und ergießt sich in Alltagsrassismen\, Frauenfeindlichkeit und Homophobie. Wir kennen ihn. Wann wird dieser zornige junge Mann aktiv? Wann bricht sich die Erstarrung Bahn. Und wo ist der Übergang vom paralysierten Youngster\, als Teil unserer Gesellschaft\, zum Täter mit Allmachtsphantasie. \nRegisseur Martin Gruber und das aktionstheater ensemble untersuchen eine radikalisierte Männergeneration die wahrgenommen werden will. Der junge Mann als das gefährlichste Wesen in unserer Gesellschaft. Pur\, wütend\, verzweifelt. Also los\, heilt die Terroristen! \nORT: Hamakom/Nestroyhof\, Nestroyplatz 1\, 1020 Wien\nPremiere: Mi. 11.März 2015 um 20.00 Uhr. Weitere Aufführungen: Fr. 13. März\, Sa. 14.März und So. 15. März\nKarten: +43 (0)1 89 00 314\, contact@hamakom.at\, http://www.hamakom.at\nVideo:https://vimeo.com/117810338 \nRegie\, Buch: Martin Gruber; Text: aktionstheater ensemble und Wolfgang Mörth\, Dramaturgie: Martin Ojster\, Musik: Andreas Dauböck\, Regieassistenz: Annina Weiss \nMIT: Wolfgang Fahrner\, Andreas Jähnert\, Alexander Meile\, Fabian Schiffkorn\, Philipp Stix u.a. \n
URL:https://www.strawanzerin.at/termin/angry-young-men/2015-03-11/
LOCATION:Österreich
CATEGORIES:bis 7,Deutsch,Kunst/Kultur,Theater/Kabarett,Wien
ATTACH;FMTTYPE=image/jpeg:https://www.strawanzerin.at/wp-content/uploads/2015/02/AktionsthAngryStraranzerin.jpg
ORGANIZER;CN="aktionstheater%20ensemble":MAILTO:office@aktionstheater.at
END:VEVENT
END:VCALENDAR