BEGIN:VCALENDAR
VERSION:2.0
PRODID:-//STRAWANZERIN - ECPv4.9.5//NONSGML v1.0//EN
CALSCALE:GREGORIAN
METHOD:PUBLISH
X-WR-CALNAME:STRAWANZERIN
X-ORIGINAL-URL:https://www.strawanzerin.at
X-WR-CALDESC:Veranstaltungen im STRAWANZERIN
BEGIN:VTIMEZONE
TZID:"Europe/Helsinki"
BEGIN:DAYLIGHT
TZOFFSETFROM:+0200
TZOFFSETTO:+0300
TZNAME:EEST
DTSTART:20160327T010000
END:DAYLIGHT
BEGIN:STANDARD
TZOFFSETFROM:+0300
TZOFFSETTO:+0200
TZNAME:EET
DTSTART:20161030T010000
END:STANDARD
END:VTIMEZONE
BEGIN:VEVENT
DTSTART;TZID="Europe/Helsinki":20161026T210000
DTEND;TZID="Europe/Helsinki":20161026T233000
DTSTAMP:20260423T154237
CREATED:20160919T103955Z
LAST-MODIFIED:20160921T062350Z
UID:33506-1477515600-1477524600@www.strawanzerin.at
SUMMARY:Anika (live) Support Oravin
DESCRIPTION:Politik\, Punk und Poesie: Vor nunmehr sechs Jahren vollzog die englische Journalistin Anika Henderson einen erfolgreichen Karrierewechsel in die Musik und interpretierte auf dem von Portishead-Gründer Geoff Barrow produzierten Debut-Album Songs von z.B. Yoko Ono und Bob Dylan in einem störrisch groovenden Gewand. Darauf verwebt Anika Dub\, Punk\, Wave und No-Wave\, spricht mehr als dass sie singt und erscheint auf der Bühne als kühle\, unnahbare Diva. Ihre Cover-Versionen wurden zu Underground-Hits\, das Album ist generationsübergreifend Bestandteil anspruchsvoller Plattensammlungen. \nSeitdem verortet Anika sich und ihre künstlerische Arbeit ständig neu. In Berlin kollaborierte sie mit den Krautrock-Legenden von Kreidler\, in Teheran arbeitete sie an einem multimedialen Projekt mit dem Videokünstler Phillip Geist und in Mexiko-Stadt gründete sie die gänzlich neue Band Exploded View\, mit deren Debutalbum sie dieses Jahr weltweit auf Tour ist. Ihre seltenen Solo-Auftritte nutzt sie währenddessen für einzigartige Experimente: Poesie\, Sound\, Musik und Bild treffen in einer multidimensionalen Performance aufeinander\, Songs nehmen neue Formen an\, Gäste stoßen hinzu. So zeigt Anika scheinbar unfassbare Zwischenstände ihrer vielfältigen Arbeit\, verweigert sich den Erwartungen und überrascht mit einer entschlossenen\, sich ständig im Fluss befindenden Version ihrer selbst. Dass sie dabei zum ersten Mal in Wien zu sehen ist\, grenzt an ein Wunder. \n
URL:https://www.strawanzerin.at/termin/anika-live-support-oravin/
LOCATION:brut im Künstlerhaus\, Karlsplatz 5\, Wien\, 1010\, Österreich
CATEGORIES:Eintrittspreis,Musik,Sonstiges,Wien
ATTACH;FMTTYPE=image/jpeg:https://www.strawanzerin.at/wp-content/uploads/2016/09/Anika_Credit_Shinya-Kato_23_nl.jpg
GEO:48.200534;16.3715493
X-APPLE-STRUCTURED-LOCATION;VALUE=URI;X-ADDRESS=brut im Künstlerhaus Karlsplatz 5 Wien 1010 Österreich;X-APPLE-RADIUS=500;X-TITLE=Karlsplatz 5:geo:16.3715493,48.200534
END:VEVENT
END:VCALENDAR