BEGIN:VCALENDAR
VERSION:2.0
PRODID:-//STRAWANZERIN - ECPv4.9.5//NONSGML v1.0//EN
CALSCALE:GREGORIAN
METHOD:PUBLISH
X-WR-CALNAME:STRAWANZERIN
X-ORIGINAL-URL:https://www.strawanzerin.at
X-WR-CALDESC:Veranstaltungen im STRAWANZERIN
BEGIN:VTIMEZONE
TZID:"Europe/Helsinki"
BEGIN:DAYLIGHT
TZOFFSETFROM:+0200
TZOFFSETTO:+0300
TZNAME:EEST
DTSTART:20150329T010000
END:DAYLIGHT
BEGIN:STANDARD
TZOFFSETFROM:+0300
TZOFFSETTO:+0200
TZNAME:EET
DTSTART:20151025T010000
END:STANDARD
END:VTIMEZONE
BEGIN:VEVENT
DTSTART;TZID="Europe/Helsinki":20151212T200000
DTEND;TZID="Europe/Helsinki":20151212T220000
DTSTAMP:20260421T211239
CREATED:20151126T120307Z
LAST-MODIFIED:20151211T111445Z
UID:22124-1449950400-1449957600@www.strawanzerin.at
SUMMARY:Ann Liv Young & Marino Formenti: 2 become 1 REVUE
DESCRIPTION:Knapp vier Wochen lang haben die New Yorker Performancekünstlerin Ann Liv Young und der Wiener Komponist und Pianist Marino Formenti in ihrem Projekt 2 become 1 das brut-Publikum in intensiven Einzelbegegnungen kennengelernt. Die beiden Künstler und ihre Gäste haben in ihrem temporären Quartier in der Praterstraße viel Zeit miteinander verbracht\, haben experimentiert und improvisiert\, produziert und einstudiert\, gelacht\, geweint\, diskutiert und sind sich dabei sehr nahe gekommen. \nMit REVUE kehren die KünstlerInnen zurück ins Künstlerhaus\, um auf der brut-Bühne den Abschluss von 2 become 1 zu feiern.    \n
URL:https://www.strawanzerin.at/termin/ann-liv-young-marino-formenti-2-become-1-revue/
CATEGORIES:Deutsch,Eintrittspreis,Kunst/Kultur,Theater/Kabarett,Wien
ATTACH;FMTTYPE=image/jpeg:https://www.strawanzerin.at/wp-content/uploads/2015/11/2become1_c_RaniaMoslam_4_Websmall1.jpg
END:VEVENT
END:VCALENDAR