BEGIN:VCALENDAR
VERSION:2.0
PRODID:-//STRAWANZERIN - ECPv4.9.5//NONSGML v1.0//EN
CALSCALE:GREGORIAN
METHOD:PUBLISH
X-WR-CALNAME:STRAWANZERIN
X-ORIGINAL-URL:https://www.strawanzerin.at
X-WR-CALDESC:Veranstaltungen im STRAWANZERIN
BEGIN:VTIMEZONE
TZID:"Europe/Helsinki"
BEGIN:DAYLIGHT
TZOFFSETFROM:+0200
TZOFFSETTO:+0300
TZNAME:EEST
DTSTART:20160327T010000
END:DAYLIGHT
BEGIN:STANDARD
TZOFFSETFROM:+0300
TZOFFSETTO:+0200
TZNAME:EET
DTSTART:20161030T010000
END:STANDARD
END:VTIMEZONE
BEGIN:VEVENT
DTSTART;TZID="Europe/Helsinki":20161202T190000
DTEND;TZID="Europe/Helsinki":20161202T200000
DTSTAMP:20260421T155527
CREATED:20161109T125151Z
LAST-MODIFIED:20161109T125151Z
UID:36191-1480705200-1480708800@www.strawanzerin.at
SUMMARY:Anna Natt: Dame Gothel...it hurts to be beautiful
DESCRIPTION:„Meine Großmutter las mir früher oft das Märchen von Rapunzel vor und sprach leidenschaftlich vom Verlangen der schwangeren Frau. Auf der anderen Seite bemühte sie sich um eine korrekte und anständige Fassade. Sie arrangierte beispielsweise Abenddinners\, um uns Tischmanieren beizubringen und zeigte mir\, wie ich mir die Nägel richtig feile. Sie sagte oft ‚wer schön sein will\, muss leiden‘ – ‚it hurts to be beautiful‘“. Mit Themen und Symboliken aus Märchen und Mythen lockt Dame Gothel…it hurts to be beautiful die Zuschauer in eine magische Welt voller Saiten\, Haare und Pferde.\nBevor Anna Natt nach Berlin zog\, machte sie von 2000-2005 eine Flamenco-Ausbildung in Sevilla\, Spanien. Ihre mulitmedialen Arbeiten untersuchen die Überschneidungen von Tanz\, Performance und Video und wurden in internationalen Galerien und alternativen Spielorten gezeigt. Um ein größeres Verständnis für den Körper und seine Nuancen zu kultivieren\, umfassen ihre Arbeiten neben dem Flamenco somatische und zeitgenössische Bewegungspraktiken. \n
URL:https://www.strawanzerin.at/termin/anna-natt-dame-gothel-it-hurts-to-be-beautiful/2016-12-02/
LOCATION:brut im Künstlerhaus\, Karlsplatz 5\, Wien\, 1010\, Österreich
CATEGORIES:ab 7,Sonstiges,Tanz,Wien
ATTACH;FMTTYPE=image/jpeg:https://www.strawanzerin.at/wp-content/uploads/2016/11/small_web_anna_natt_c_dame_gothel_-_3.jpg
GEO:48.200534;16.3715493
X-APPLE-STRUCTURED-LOCATION;VALUE=URI;X-ADDRESS=brut im Künstlerhaus Karlsplatz 5 Wien 1010 Österreich;X-APPLE-RADIUS=500;X-TITLE=Karlsplatz 5:geo:16.3715493,48.200534
END:VEVENT
END:VCALENDAR