BEGIN:VCALENDAR
VERSION:2.0
PRODID:-//STRAWANZERIN - ECPv4.9.5//NONSGML v1.0//EN
CALSCALE:GREGORIAN
METHOD:PUBLISH
X-WR-CALNAME:STRAWANZERIN
X-ORIGINAL-URL:https://www.strawanzerin.at
X-WR-CALDESC:Veranstaltungen im STRAWANZERIN
BEGIN:VTIMEZONE
TZID:"Europe/Vienna"
BEGIN:DAYLIGHT
TZOFFSETFROM:+0100
TZOFFSETTO:+0200
TZNAME:CEST
DTSTART:20190331T010000
END:DAYLIGHT
BEGIN:STANDARD
TZOFFSETFROM:+0200
TZOFFSETTO:+0100
TZNAME:CET
DTSTART:20191027T010000
END:STANDARD
END:VTIMEZONE
BEGIN:VEVENT
DTSTART;TZID="Europe/Vienna":20190921T190000
DTEND;TZID="Europe/Vienna":20191027T190000
DTSTAMP:20260422T054020
CREATED:20190824T165955Z
LAST-MODIFIED:20190824T170003Z
UID:66598-1569092400-1572202800@www.strawanzerin.at
SUMMARY:Annemarie Avramidis
DESCRIPTION:“Unter den vielen starken Bildhauerinnen der letzten hundert Jahre gebührt – international gesehen – Annemarie Avramidis (1939-2013) ein eigener Platz: Als Steinbildhauerin verfügt sie über eine ganz individuelle Materialbehandlung\, Figurenfindung und poetische Kraft. Als Zeichnerin besitzt sie eine furiose Treffsicherheit. Als Dichterin bewahrt sie eine lapidare Strenge\, die schlüssig der Verhaltenheit und Anmut ihrer Gestalten entspricht.\nAnnemarie Avramidis‘ Fähigkeit\, den Stein im Licht atmen zu lassen\, macht sie zur „Griechin“ im wahrsten Sinne: jede Steinschicht wird mit dem Spitzeisen von allen Seiten gleichmäßig Zug um Zug abgetragen. So geht bei der umfassenden Steinbehandlung eine stete Aufmerksamkeit in die Figur über und trägt ihr eine eigene\, wache Ruhe zu. Aus ihr heraus erreichen Annemarie Avramidis’ Geschöpfe eine Harmonie\, die sich auf die Betrachter überträgt.”\n– Christa Lichtenstern\, Kunsthistorikerin \nZur Ausstellung spricht: Julia Avramidis\, Künstlerin und Tochter von Annemarie Avramidis \n
URL:https://www.strawanzerin.at/termin/annemarie-avramidis/
LOCATION:Galerie Lindenhof\, Oberndorf 7\, Raabs an der Thaya\, Niederösterreich\, 3820\, Österreich
CATEGORIES:Ausstellung,Kunst/Kultur
ATTACH;FMTTYPE=image/jpeg:https://www.strawanzerin.at/wp-content/uploads/2019/08/Avramidis_kopfSelbstbildnissN546_©-Julia-Avramidis-Galerie-bei-der-Albertina-▪-Zetter-Wien.jpg
ORGANIZER;CN="Galerien%20Thayaland":MAILTO:franzpart9@gmail.com
GEO:48.8478001;15.4861098
X-APPLE-STRUCTURED-LOCATION;VALUE=URI;X-ADDRESS=Galerie Lindenhof Oberndorf 7 Raabs an der Thaya Niederösterreich 3820 Österreich;X-APPLE-RADIUS=500;X-TITLE=Oberndorf 7:geo:15.4861098,48.8478001
END:VEVENT
END:VCALENDAR