BEGIN:VCALENDAR
VERSION:2.0
PRODID:-//STRAWANZERIN - ECPv4.9.5//NONSGML v1.0//EN
CALSCALE:GREGORIAN
METHOD:PUBLISH
X-WR-CALNAME:STRAWANZERIN
X-ORIGINAL-URL:https://www.strawanzerin.at
X-WR-CALDESC:Veranstaltungen im STRAWANZERIN
BEGIN:VTIMEZONE
TZID:"Europe/Helsinki"
BEGIN:DAYLIGHT
TZOFFSETFROM:+0200
TZOFFSETTO:+0300
TZNAME:EEST
DTSTART:20140330T010000
END:DAYLIGHT
BEGIN:STANDARD
TZOFFSETFROM:+0300
TZOFFSETTO:+0200
TZNAME:EET
DTSTART:20141026T010000
END:STANDARD
END:VTIMEZONE
BEGIN:VEVENT
DTSTART;TZID="Europe/Helsinki":20141020T200000
DTEND;TZID="Europe/Helsinki":20141020T213000
DTSTAMP:20260422T023521
CREATED:20140815T160932Z
LAST-MODIFIED:20140902T072014Z
UID:4339-1413835200-1413840600@www.strawanzerin.at
SUMMARY:Annette Hexelschneider & Irene Pollak bilder.worte.töne 20. Oktober
DESCRIPTION:Annette HEXELSCHNEIDER\nWiener Antiparadiese\nLesung und Foto-Collagen \nIrene POLLAK\nKindheitsparadiese\nDer „drübere“ Keller\nGeschichten aus dem Fundus\nBuchpräsentation und Lesung \n
URL:https://www.strawanzerin.at/termin/annette-hexelschneider-irene-pollak-bilder-worte-toene-20-oktober/
LOCATION:Osteria Allora\, Wallensteinplatz 5-6\, Wien\, Wien\, 1200\, Österreich
CATEGORIES:Deutsch,freie Spende,Kunst/Kultur,Literatur,Wien
ATTACH;FMTTYPE=:
ORGANIZER;CN="Ursula%20Pfeiffer%20verein%3A%3Akunst-projekte%3A%3A%20der%20%5Bgalerie%5Dstudio38%20zvr%20123612155":MAILTO:office@galeriestudio38.at
GEO:48.2295781;16.3715666
X-APPLE-STRUCTURED-LOCATION;VALUE=URI;X-ADDRESS=Osteria Allora Wallensteinplatz 5-6 Wien Wien 1200 Österreich;X-APPLE-RADIUS=500;X-TITLE=Wallensteinplatz 5-6:geo:16.3715666,48.2295781
END:VEVENT
END:VCALENDAR