BEGIN:VCALENDAR
VERSION:2.0
PRODID:-//STRAWANZERIN - ECPv4.9.5//NONSGML v1.0//EN
CALSCALE:GREGORIAN
METHOD:PUBLISH
X-WR-CALNAME:STRAWANZERIN
X-ORIGINAL-URL:https://www.strawanzerin.at
X-WR-CALDESC:Veranstaltungen im STRAWANZERIN
BEGIN:VTIMEZONE
TZID:"Europe/Vienna"
BEGIN:DAYLIGHT
TZOFFSETFROM:+0100
TZOFFSETTO:+0200
TZNAME:CEST
DTSTART:20240331T010000
END:DAYLIGHT
BEGIN:STANDARD
TZOFFSETFROM:+0200
TZOFFSETTO:+0100
TZNAME:CET
DTSTART:20241027T010000
END:STANDARD
END:VTIMEZONE
BEGIN:VEVENT
DTSTART;TZID="Europe/Vienna":20241004T150000
DTEND;TZID="Europe/Vienna":20241004T150000
DTSTAMP:20260420T133216
CREATED:20240913T123900Z
LAST-MODIFIED:20240913T123900Z
UID:103314-1728054000-1728054000@www.strawanzerin.at
SUMMARY:Antirassismus ist kein Spaziergang!
DESCRIPTION:Rassismus im öffentlichen Raum ist ein Problem\, das oft unterschätzt wird. Diese Veranstaltung analysiert\, wie sich Rassismus im städtischen Alltag manifestiert und welche Maßnahmen notwendig sind\, um diesem entgegenzuwirken. Expertinnen und Aktivistinnen diskutieren über konkrete Beispiele und Strategien\, um den öffentlichen Raum für alle Menschen zugänglich und sicher zu machen. Dabei wird betont\, dass Antirassismus aktive Bemühungen erfordert und kein „Spaziergang“ ist.\nInfos und Anmeldung :https://www.ash-forum.at/site/veranstaltungen/eventman.event/168.html \n
URL:https://www.strawanzerin.at/termin/antirassismus-ist-kein-spaziergang/
LOCATION:Platz der Menschenrechte\, Ecke Mariahilfer Straße/MuseumsQuartier\, 1070 Wien\, Österreich\, Ecke Mariahilfer Straße/MuseumsQuartier\, Wien\, 1070\, Österreich
ATTACH;FMTTYPE=image/jpeg:https://www.strawanzerin.at/wp-content/uploads/2024/09/IMG_7826-1.jpg
END:VEVENT
END:VCALENDAR