BEGIN:VCALENDAR
VERSION:2.0
PRODID:-//STRAWANZERIN - ECPv4.9.5//NONSGML v1.0//EN
CALSCALE:GREGORIAN
METHOD:PUBLISH
X-WR-CALNAME:STRAWANZERIN
X-ORIGINAL-URL:https://www.strawanzerin.at
X-WR-CALDESC:Veranstaltungen im STRAWANZERIN
BEGIN:VTIMEZONE
TZID:"Europe/Vienna"
BEGIN:DAYLIGHT
TZOFFSETFROM:+0100
TZOFFSETTO:+0200
TZNAME:CEST
DTSTART:20180325T010000
END:DAYLIGHT
BEGIN:STANDARD
TZOFFSETFROM:+0200
TZOFFSETTO:+0100
TZNAME:CET
DTSTART:20181028T010000
END:STANDARD
END:VTIMEZONE
BEGIN:VEVENT
DTSTART;TZID="Europe/Vienna":20180212T200000
DTEND;TZID="Europe/Vienna":20180212T220000
DTSTAMP:20260421T224216
CREATED:20180119T165802Z
LAST-MODIFIED:20180122T071508Z
UID:51765-1518465600-1518472800@www.strawanzerin.at
SUMMARY:arbeitslos - persönliche Schuld oder gesellschaftliche Verpflichtung?
DESCRIPTION:Vortrag und Diskussion mit Dr. Jürgen Figerl (AK NÖ) organisiert von den Grünen Mödling \nWie wirken sich die geplanten Änderungen beim Arbeitslosengeld und der Notstandshilfe auf die Betroffenen aus und was bedeutet das für die Politik? Kommen Sie vorbei und diskutieren Sie mit!\n​\nDer Eintritt ist frei! \n
URL:https://www.strawanzerin.at/termin/arbeitslos-persoenliche-schuld-oder-gesellschaftliche-verpflichtung/
LOCATION:Bühne Mayer Mödling\, Kaiserin Elisabethstr. 22\, Mödling\, Niederösterreich\, 2340\, Österreich
ATTACH;FMTTYPE=image/png:https://www.strawanzerin.at/wp-content/uploads/2018/01/AMS.png
GEO:48.0839405;16.2825987
X-APPLE-STRUCTURED-LOCATION;VALUE=URI;X-ADDRESS=Bühne Mayer Mödling Kaiserin Elisabethstr. 22 Mödling Niederösterreich 2340 Österreich;X-APPLE-RADIUS=500;X-TITLE=Kaiserin Elisabethstr. 22:geo:16.2825987,48.0839405
END:VEVENT
END:VCALENDAR