BEGIN:VCALENDAR
VERSION:2.0
PRODID:-//STRAWANZERIN - ECPv4.9.5//NONSGML v1.0//EN
CALSCALE:GREGORIAN
METHOD:PUBLISH
X-WR-CALNAME:STRAWANZERIN
X-ORIGINAL-URL:https://www.strawanzerin.at
X-WR-CALDESC:Veranstaltungen im STRAWANZERIN
BEGIN:VTIMEZONE
TZID:"Europe/Helsinki"
BEGIN:DAYLIGHT
TZOFFSETFROM:+0200
TZOFFSETTO:+0300
TZNAME:EEST
DTSTART:20160327T010000
END:DAYLIGHT
BEGIN:STANDARD
TZOFFSETFROM:+0300
TZOFFSETTO:+0200
TZNAME:EET
DTSTART:20161030T010000
END:STANDARD
END:VTIMEZONE
BEGIN:VEVENT
DTSTART;TZID="Europe/Helsinki":20160511T190000
DTEND;TZID="Europe/Helsinki":20160511T210000
DTSTAMP:20260420T213058
CREATED:20160425T101514Z
LAST-MODIFIED:20160427T150719Z
UID:27039-1462993200-1463000400@www.strawanzerin.at
SUMMARY:ArchitektInnen der Zukunft – Krieg und Nachkriegsordnungen im Irak und Syrien
DESCRIPTION:Programm:\nHaifa Zangana: irakische Schriftstellerin und Aktivistin\nFouad Gehad Marei: Otto-Suhr-Institut für Politikwissenschaft der Freien Universität Berlin\nModeration: Helmut Krieger\, Institut für Internationale Entwicklung der Universität Wien/VIDC\nBegrüßung: Magda Seewald\, VIDC \nHintergrund \nDie Revolten von 2011 in der arabischen Welt ließen demokratische Alternativen erahnen. Obwohl ihre grundlegenden Forderungen nach Freiheit und Gerechtigkeit uns heute wie Rufe aus einer fernen Vergangenheit erscheinen\, sind diese Revolten dennoch nicht einfach ‚gescheitert‘. Was das im Zusammenhang mit Syrien und dem Irak bedeuten kann\, ist Gegenstand der Veranstaltung.\nMittlerweile ist der Krieg in Syrien längst zu einem internationalen geworden\, in dem einander regionale und globale Machtblöcke gegenüberstehen\, die die Architektur der Nachkriegsordnung bestimmen wollen. Die Logik ist dabei klar: Politik wird zur Fortsetzung des Krieges mit anderen Mitteln – militärische ‚Stärke‘ im Sinne der Kontrolle von möglichst großen\, zusammenhängenden Territorien soll in Verhandlungen politisch abgesichert werden.\nIm Irak wiederum hat der Krieg der Armee und weiterer Milizen gegen die jihadistische Formation Islamischer Staat (IS) zivilgesellschaftliche Proteste der letzten Jahre gegen die Regierung in Bagdad (vorläufig) zum Schweigen gebracht. Zusammen mit Luftangriffen einer von den USA angeführten Allianz sollen die Jihadis in den nächsten Monaten aus allen wichtigen Städten vertrieben werden. Was dieser Krieg allerdings für die Zivilbevölkerung bedeutet und dass trotz dieser Bedingungen nach wie vor viele soziale Initiativen aktiv sind\, ist vielen westlichen Medien offensichtlich keine Berichterstattung mehr wert.\n13 Jahre nach Beginn der US-Invasion in den Irak und angesichts der gegenwärtigen Kriege in Syrien und dem Irak stellt sich daher die Frage nach Nachkriegsordnungen in diesen beiden Ländern\, die nicht von außen bestimmt sind und die zentrale Forderungen der demokratischen Revolten von 2011 aufnehmen.\nWie müsste insbesondere die demokratische Zukunft von Syrien und dem Irak gestaltet werden? Auf welcher ökonomischen\, sozialen\, kulturellen und ideologischen Basis müsste diese aufgebaut werden? Wer sind heute diejenigen\, die sie entwickeln können? \nWeitere Informationen unter: http://www.vidc.org/themen/global-dialogue/2016/architektinnen-der-zukunft-krieg-und-nachkriegsordnungen-im-irak-und-syrien/ \nVeranstaltungsprachen: Englisch und Deutsch mit Simultandolmetschung \nCopyright Veranstaltungsfoto: © istock/adivphoto \n
URL:https://www.strawanzerin.at/termin/architektinnen-der-zukunft-krieg-und-nachkriegsordnungen-im-irak-und-syrien/
LOCATION:Diplomatische Akademie (Wien)\, Favoritenstraße 15a\, Wien\, Wien\, 1040 \, Österreich
ORGANIZER;CN="VIDC%20-%20Wiener%20Institut":MAILTO:hochauer-kpoda@vidc.org
GEO:48.1942176;16.3703657
X-APPLE-STRUCTURED-LOCATION;VALUE=URI;X-ADDRESS=Diplomatische Akademie (Wien) Favoritenstraße 15a Wien Wien 1040  Österreich;X-APPLE-RADIUS=500;X-TITLE=Favoritenstraße 15a:geo:16.3703657,48.1942176
END:VEVENT
END:VCALENDAR