BEGIN:VCALENDAR
VERSION:2.0
PRODID:-//STRAWANZERIN - ECPv4.9.5//NONSGML v1.0//EN
CALSCALE:GREGORIAN
METHOD:PUBLISH
X-WR-CALNAME:STRAWANZERIN
X-ORIGINAL-URL:https://www.strawanzerin.at
X-WR-CALDESC:Veranstaltungen im STRAWANZERIN
BEGIN:VTIMEZONE
TZID:"Europe/Vienna"
BEGIN:DAYLIGHT
TZOFFSETFROM:+0100
TZOFFSETTO:+0200
TZNAME:CEST
DTSTART:20180325T010000
END:DAYLIGHT
BEGIN:STANDARD
TZOFFSETFROM:+0200
TZOFFSETTO:+0100
TZNAME:CET
DTSTART:20181028T010000
END:STANDARD
END:VTIMEZONE
BEGIN:VEVENT
DTSTART;TZID="Europe/Vienna":20180829T200000
DTEND;TZID="Europe/Vienna":20180829T213000
DTSTAMP:20260421T123545
CREATED:20180731T081306Z
LAST-MODIFIED:20180809T100247Z
UID:57967-1535572800-1535578200@www.strawanzerin.at
SUMMARY:Architektur.Film.Sommer 2018 - Vom adap­tier­ten Woh­nen - Kinoabende im Hof des Az W
DESCRIPTION:Passen wir uns den Wohnraum an! Das ist in diesem Fall kein Fallfehler\, sondern eine Aufforderung. Dieser folgen die Besitzer*innen von quer durch die USA rollenden Einfamilienhäusern im vielfach preisgekrönten Film „Chasing Houses“ ebenso wie die Architekt* innen Lacaton & Vassal und Druot bei der Neugestaltung des Tour Bois-le-Prêtre. \nSlightly Modified Housing\, FR 2013\, 77:00 min\, OmeU\, R: Guillaume Meigneux\nDer Tour Bois-le-Prêtre trug früher den wenig schmeichelhaften Beinamen „Alcatraz“ und war für den Abbruch vorgesehen. Gemeinsam mit den Architekt*innen Lacaton & Vassal und Druot entschloss sich die Stadt aber für eine Aufwertung des Sozialwohnbaus\, und zwar ohne dass die Bewohner*innen länger ausziehen mussten. Der Film unterstreicht die Rolle sozialer Interaktion in der Architektur.\nPaper Movements 2\, AT 2013\, 1:41 min\, ohne Sprache\, R: Eginhartz Kanter\nUntitled – Filmed with Fujifilm X-E1 16.3MP Compact System Digital Camera with 18-55mm Lens\, SanDisk Extreme Pro SDXC 64GB Class 10 SD Card. Mounted on Manfrotto 496RC2 Ball Head with Manfrotto MKBFRA4-BH BeFree Tripod\, CHI/DE 2015\, 10:08 min\, ohne Sprache\, R: Daniel Stubenvoll\nChasing Houses\, D/USA 2017\, 60:00 min\, OmU\, R: Justin Time\nMobile Homes\, seriell gebaute Fertighäuser\, auf ihrem Weg über US-amerikanische Highways. Die Weite des Westens und Begegnungen mit Menschen\, die in den Häusern wohnen\, diese transportieren oder verkaufen. Ein vielseitiges Bild von Lebensentwürfen\, von Mobilität und Zuhause. Was für die einen Freiheit bedeutet\, ist für die anderen reine Notwendigkeit. \nSchlechtwetterlocation\nAz W Podium \n
URL:https://www.strawanzerin.at/termin/architektur-film-sommer-2018-vom-adap%c2%adtier%c2%adten-woh%c2%adnen-kinoabende-im-hof-des-az-w/
LOCATION:Architekturzentrum Wien\, Museumsplatz 1\, Wien\, Wien\, 1200\, Österreich
CATEGORIES:Film
ATTACH;FMTTYPE=image/jpeg:https://www.strawanzerin.at/wp-content/uploads/2018/07/VA_Architekturfilmsommer-1024x683-3.jpg
GEO:48.2034986;16.3591175
X-APPLE-STRUCTURED-LOCATION;VALUE=URI;X-ADDRESS=Architekturzentrum Wien Museumsplatz 1 Wien Wien 1200 Österreich;X-APPLE-RADIUS=500;X-TITLE=Museumsplatz 1:geo:16.3591175,48.2034986
END:VEVENT
END:VCALENDAR