BEGIN:VCALENDAR
VERSION:2.0
PRODID:-//STRAWANZERIN - ECPv4.9.5//NONSGML v1.0//EN
CALSCALE:GREGORIAN
METHOD:PUBLISH
X-WR-CALNAME:STRAWANZERIN
X-ORIGINAL-URL:https://www.strawanzerin.at
X-WR-CALDESC:Veranstaltungen im STRAWANZERIN
BEGIN:VTIMEZONE
TZID:"Europe/Vienna"
BEGIN:DAYLIGHT
TZOFFSETFROM:+0100
TZOFFSETTO:+0200
TZNAME:CEST
DTSTART:20200329T010000
END:DAYLIGHT
BEGIN:STANDARD
TZOFFSETFROM:+0200
TZOFFSETTO:+0100
TZNAME:CET
DTSTART:20201025T010000
END:STANDARD
END:VTIMEZONE
BEGIN:VEVENT
DTSTART;TZID="Europe/Vienna":20200826T203000
DTEND;TZID="Europe/Vienna":20200826T220000
DTSTAMP:20260423T191150
CREATED:20200723T120910Z
LAST-MODIFIED:20200724T090951Z
UID:74658-1598473800-1598479200@www.strawanzerin.at
SUMMARY:Architektur.Film.Sommer 2020 "Zusammen Zuhause" Kinoabende im Hof des Az W
DESCRIPTION:Die achte Ausgabe des internationalen Open Air Architekturfilmfestivals widmet sich dem Thema „Gebaute Gerechtigkeit“. Preisgekrönte Filme und Neuentdeckungen reflektieren die Entwicklung von urbanen und ländlichen Räumen. \nAufgrund der Covid-19 Maßnahmen bitten wir Sie dieses Jahr um verbindliche Anmeldung.\nSie bekommen eine Reservierungsbestätigung und einen fixen Sitzplatz zugewiesen.\nAnmeldung: anmeldung@azw.at \nEintritt frei \nWhat It Takes to Make a Home\, CDN 2019\, 29:00 min\, OmeU\, R: Daniel Schwartz\nWelche Rolle können Architekt*innen bei der Bekämpfung von Wohnungslosigkeit einnehmen? Der Film folgt einem Gespräch zwischen Michael Maltzan (LA) und Alexander Hagner (Wien)\, welche sich in ihren Projekten mit diesen Fragen auseinandersetzen. \nÖsterreichpremiere! \nSongs Next Door\, FR 2017\, 26:00 min\, OmeU\, R: Flavie Pinatel\nDer Film portraitiert das Wohnprojekt La Maladrerie aus einer ungewohnten Perspektive: die Protagonist*innen singen und tanzen inmitten des architektonisch eindrucksvollen Wohnbaus und liefern dabei ein höchst poetisches Bild ihres Zusammenlebens. \nÖsterreichpremiere! \n
URL:https://www.strawanzerin.at/termin/architektur-film-sommer-2020-zusammen-zuhause-kinoabende-im-hof-des-az-w/
LOCATION:Architekturzentrum Wien\, Museumsplatz 1\, 1070 Wien\, 1070\, Österreich
CATEGORIES:Film
ATTACH;FMTTYPE=image/jpeg:https://www.strawanzerin.at/wp-content/uploads/2020/07/Filmstill-aus-There-Goes-Our-Neighbourhood-©NicWalker-670x1024-1.jpg
GEO:48.2026499;16.3591421
X-APPLE-STRUCTURED-LOCATION;VALUE=URI;X-ADDRESS=Architekturzentrum Wien Museumsplatz 1 1070 Wien 1070 Österreich;X-APPLE-RADIUS=500;X-TITLE=Museumsplatz 1:geo:16.3591421,48.2026499
END:VEVENT
END:VCALENDAR