BEGIN:VCALENDAR
VERSION:2.0
PRODID:-//STRAWANZERIN - ECPv4.9.5//NONSGML v1.0//EN
CALSCALE:GREGORIAN
METHOD:PUBLISH
X-WR-CALNAME:STRAWANZERIN
X-ORIGINAL-URL:https://www.strawanzerin.at
X-WR-CALDESC:Veranstaltungen im STRAWANZERIN
BEGIN:VTIMEZONE
TZID:"Europe/Helsinki"
BEGIN:DAYLIGHT
TZOFFSETFROM:+0200
TZOFFSETTO:+0300
TZNAME:EEST
DTSTART:20160327T010000
END:DAYLIGHT
BEGIN:STANDARD
TZOFFSETFROM:+0300
TZOFFSETTO:+0200
TZNAME:EET
DTSTART:20161030T010000
END:STANDARD
END:VTIMEZONE
BEGIN:VEVENT
DTSTART;TZID="Europe/Helsinki":20160624T160000
DTEND;TZID="Europe/Helsinki":20160624T160000
DTSTAMP:20260420T145229
CREATED:20160531T111655Z
LAST-MODIFIED:20160531T111655Z
UID:29790-1466784000-1466784000@www.strawanzerin.at
SUMMARY:ART.SALON Summer '16 bei Artopia 24. - 26. Juni 2016
DESCRIPTION:Der bei ARTOPIA KUNST IM HINTERHOF vom 24. – 26. Juni stattfindende\nART.SALON SUMMER ’16\, eine EXKLUSIVE VERKAUFSAUSSTELLUNG auf hohem Niveau\,\nerhält unter dem Motto „ART – FASHION – DESIGN & MORE“ eine frische\, „sommerliche“ Note! Nicht nur Kunst an den Wänden\, auch selbst designte Mode und Schmuck werden diesmal präsentiert und im Rahmen einer Modenschau auf dem Laufsteg vorgeführt.\nWeitere Höhepunkte sind die Eröffnung mit Gesang und Gitarrebegleitung sowie ein „Drinktruck“ mit verrückten Bowlekreationen.\nZur Ausstellung erscheint eine BEGLEITBROSCHÜRE/KATALOG. \n
URL:https://www.strawanzerin.at/termin/art-salon-summer-16-bei-artopia-24-26-juni-2016/2016-06-24/
LOCATION:Galerie ARTOPIA\, Wiedner Hauptstraße 46\, Wien\, Wien\, 1040\, Österreich
CATEGORIES:Ausstellung,Deutsch,Gratis,Kunst/Kultur,Wien
ATTACH;FMTTYPE=image/jpeg:https://www.strawanzerin.at/wp-content/uploads/2016/05/03-ART-SALON-Summer-16-web.jpg
ORGANIZER;CN="Ursula%20Pfeiffer%20verein%20%3A%3Akunst-projekte%3A%3A%20der%20%5Bgalerie%5Dstudio38%20zvr%20123612155":MAILTO:office@galeriestudio38.at
GEO:48.1932954;16.3668336
X-APPLE-STRUCTURED-LOCATION;VALUE=URI;X-ADDRESS=Galerie ARTOPIA Wiedner Hauptstraße 46 Wien Wien 1040 Österreich;X-APPLE-RADIUS=500;X-TITLE=Wiedner Hauptstraße 46:geo:16.3668336,48.1932954
END:VEVENT
END:VCALENDAR