BEGIN:VCALENDAR
VERSION:2.0
PRODID:-//STRAWANZERIN - ECPv4.9.5//NONSGML v1.0//EN
CALSCALE:GREGORIAN
METHOD:PUBLISH
X-WR-CALNAME:STRAWANZERIN
X-ORIGINAL-URL:https://www.strawanzerin.at
X-WR-CALDESC:Veranstaltungen im STRAWANZERIN
BEGIN:VTIMEZONE
TZID:"Europe/Vienna"
BEGIN:DAYLIGHT
TZOFFSETFROM:+0100
TZOFFSETTO:+0200
TZNAME:CEST
DTSTART:20250330T010000
END:DAYLIGHT
BEGIN:STANDARD
TZOFFSETFROM:+0200
TZOFFSETTO:+0100
TZNAME:CET
DTSTART:20251026T010000
END:STANDARD
END:VTIMEZONE
BEGIN:VEVENT
DTSTART;TZID="Europe/Vienna":20250718T153000
DTEND;TZID="Europe/Vienna":20250718T180000
DTSTAMP:20260422T074302
CREATED:20250612T102753Z
LAST-MODIFIED:20250612T102753Z
UID:108204-1752852600-1752861600@www.strawanzerin.at
SUMMARY:Aspern: Die Seestadt wächst weiter
DESCRIPTION:Neue Entwicklungen seit 2020. Eine Führung für „Fortgeschrittene“\, die die frühen Bauphasen bereits erkundet haben. Die ersten Seestädter*innen wohnen nun schon seit 10 Jahren hier\, Kinder sind herangewachsen\, die Entwicklung geht weiter: Das Jugendzentrum und die Sportangebote\, sowie die „Kulturgarage“ erweitern das Spektrum der Aktivitäten. Zu den neuen Wohnbauten gehört ein Gemeindebau am Elinor-Ostrom-Park. Ein zentrales Thema ist\, Wohnen und Arbeiten zusammenzurücken – für Synergien und Belebtheit zu allen Tageszeiten. \n
URL:https://www.strawanzerin.at/termin/aspern-die-seestadt-waechst-weiter/
LOCATION:seestadt aspern ströck\, U2-Station Seestadt\, Ausgang Seestadtstraße\, vor Ströck\, Wien\, Österreich
CATEGORIES:Kunst/Kultur,Wien
ATTACH;FMTTYPE=image/jpeg:https://www.strawanzerin.at/wp-content/uploads/2025/06/seestadt-scaled.jpg
ORGANIZER;CN="architektur%20f%C3%BChrungen%20wien":MAILTO:v.pandurevic@atours-vienna.com
END:VEVENT
END:VCALENDAR