BEGIN:VCALENDAR
VERSION:2.0
PRODID:-//STRAWANZERIN - ECPv4.9.5//NONSGML v1.0//EN
CALSCALE:GREGORIAN
METHOD:PUBLISH
X-WR-CALNAME:STRAWANZERIN
X-ORIGINAL-URL:https://www.strawanzerin.at
X-WR-CALDESC:Veranstaltungen im STRAWANZERIN
BEGIN:VTIMEZONE
TZID:"Europe/Vienna"
BEGIN:DAYLIGHT
TZOFFSETFROM:+0100
TZOFFSETTO:+0200
TZNAME:CEST
DTSTART:20220327T010000
END:DAYLIGHT
BEGIN:STANDARD
TZOFFSETFROM:+0200
TZOFFSETTO:+0100
TZNAME:CET
DTSTART:20221030T010000
END:STANDARD
END:VTIMEZONE
BEGIN:VEVENT
DTSTART;TZID="Europe/Vienna":20220620T193000
DTEND;TZID="Europe/Vienna":20220620T193000
DTSTAMP:20260421T104956
CREATED:20220530T111211Z
LAST-MODIFIED:20220530T111211Z
UID:84991-1655753400-1655753400@www.strawanzerin.at
SUMMARY:ASYL TRIBUNAL – KLAGE GEGEN DIE REPUBLIK
DESCRIPTION:Ein öffentlicher Gerichtsprozess von Theaterkollektiv Hybrid\nin Kooperation mit WERK X – Petersplatz\nUraufführung | Inszenierung: Alireza Daryanavard \n„Ein Rechtsstaat bleibt ein Rechtsstaat“\, so Karl Nehammer\, Österreichischer Bundeskanzler.\nDas Theaterkollektiv Hybrid stellt in Frage\, ob dies auch für den Asylbereich gilt. \nIn Asyl Tribunal wird\, basierend auf realen Sachverhalten\, in einem symbolischen Tribunal verhandelt\, wie wirksam Asylsuchende in Österreich zu ihrem Recht auf Asyl kommen. Die Klage und die Verteidigung werden in einem mehrtägigen Verfahren im öffentlichen Raum vorgetragen. Gemeinsam mit Richter:innen\, Expert:innen und der Republik Österreich findet ein theatraler Gerichtsprozess statt\, der sich mit aktuellen Problemlagen auseinandersetzt. \nDie österreichische Gesetzgebung erschwert die Zusammenführung von Asylsuchenden mit Angehörigen zunehmend. Aus vielen Krisen- und Kriegsgebieten gibt es derzeit keine Möglichkeit\, auf legalem Weg nach Österreich zu gelangen. Es finden illegale Pushbacks an Österreichs Außengrenzen statt. Zwar ist Österreich zur Einhaltung der Genfer Flüchtlingskonvention und der Europäischen Menschenrechtskonvention (EMRK) verpflichtet\, doch die Republik Österreich steht aktuell unter dringendem Verdacht\, wesentliche Grundrechte von Asylberechtigten zu missachten. Maßgebliche österreichische Asylrechtsbestimmungen scheinen die Europäische Grundrechtecharta und die EMRK umgehen zu wollen\, indem sie Vorgänge rechtskonform erscheinen lassen\, die eigentlich einen Rechtsbruch darstellen. \nAsyl Tribunal ist ein öffentlicher theatraler Gerichtsprozess\, an dessen Ende ein Urteil gefällt und dieses gegenüber der Republik verkündet wird. \nDer InstaWalk am 24. Juni 2022 zur Produktion ASYL TRIBUNAL widmet sich inhaltlich der „Menschenrechtsstadt Wien“. \nEintritt frei | Jede Vorstellung wird synchronübersetzt in Arabisch und Dari/Farsi\nOrt: Judenplatz\, 1010 Wien (bei Schlechtwetter im WERK X-Petersplatz)\nPublikumsgespräch im Anschluss an die Vorstellung am 25. Juni 2022 \nMit: May Garzon\, Ines Rössl\, Denise Teipel\nRecherche & Dramaturgie: Mahsa Ghafari\nRechtsberatung: Ronald Frühwirth\nAusstattung: Geraldine Massing\nProduktionsleitung: Julia Haas\, Mascha Mölkner\nTechnikorganisation: Diana Leah Mosser\nRegieassistenz: Michèle Tacke \nFördergeber:innen: Stadt Wien Kultur\, Bundesministerium für Kunst\, Kultur\, öffentlichen Dienst und Sport\, Zukunftsfonds der Republik Österreich \nIn Zusammenarbeit mit: SOS Balkanroute\, Okto\, Venga!\, #aufstehn\nEin öffentlicher Gerichtsprozess von Theaterkollektiv Hybrid \nBild: © Isa Heliz \n
URL:https://www.strawanzerin.at/termin/asyl-tribunal-klage-gegen-die-republik/2022-06-20/
LOCATION:Judenplatz\, Judenplatz\, Wien\, 1010\, Österreich
CATEGORIES:Theater/Kabarett
ATTACH;FMTTYPE=image/png:https://www.strawanzerin.at/wp-content/uploads/2022/05/Sujet_Asyl_Tribunal_small.png
ORGANIZER;CN="WERK%20X-Petersplatz":MAILTO:reservierung@werk-x-petersplatz.at
END:VEVENT
END:VCALENDAR