BEGIN:VCALENDAR
VERSION:2.0
PRODID:-//STRAWANZERIN - ECPv4.9.5//NONSGML v1.0//EN
CALSCALE:GREGORIAN
METHOD:PUBLISH
X-WR-CALNAME:STRAWANZERIN
X-ORIGINAL-URL:https://www.strawanzerin.at
X-WR-CALDESC:Veranstaltungen im STRAWANZERIN
BEGIN:VTIMEZONE
TZID:"Europe/Helsinki"
BEGIN:DAYLIGHT
TZOFFSETFROM:+0200
TZOFFSETTO:+0300
TZNAME:EEST
DTSTART:20150329T010000
END:DAYLIGHT
BEGIN:STANDARD
TZOFFSETFROM:+0300
TZOFFSETTO:+0200
TZNAME:EET
DTSTART:20151025T010000
END:STANDARD
END:VTIMEZONE
BEGIN:VEVENT
DTSTART;TZID="Europe/Helsinki":20150116T183000
DTEND;TZID="Europe/Helsinki":20150116T203000
DTSTAMP:20260421T191017
CREATED:20150115T162622Z
LAST-MODIFIED:20150115T162622Z
UID:10880-1421433000-1421440200@www.strawanzerin.at
SUMMARY:Auf den Barockaden
DESCRIPTION:Dokumentarfilm von Doris Kittler \nIm sonst so gemütlichen Wien tobt eine heftige Kontroverse: Der öffentliche\, barocke Park Augarten soll mit einer privaten Konzerthalle für die Wiener Sängerknaben verbaut werden. Den Bürgerinnen und Bürgern reichts und sie wehren sich: Mit irritierendem Humor und barocken Gelagen wird auf skandalöse Vorgänge rund um Machenschaften zwischen Politik\, Bauwirtschaft und Männerbünden aufmerksam gemacht\, die sich skrupellos über die Bedürfnisse der BürgerInnen hinwegsetzen und demokratische Prozesse\, sowie Gesetze wenig elegant umschiffen.\nDieser Film ist eine Zeitreise auf die bizarre Bühne eines Wiener Grätzls\, wo sich ungewöhnliche Figuren zwischen kreativem Aktionismus und dem knallharten Alltag eines Bürgerprotestes bewegen. Wir erleben eine Geschichte\, die in der allgemeinen Aufbruchsstimmung des neuen Jahrtausends exemplarisch für viele Proteste auf der ganzen Welt steht. \n
URL:https://www.strawanzerin.at/termin/auf-den-barockaden-3/2015-01-16/
LOCATION:Breitenseer Lichtspiele\, Breitenseer Straße 21\, 1140 Wien\, 1140 Wien\, Vereinigte Staaten
CATEGORIES:ab 7,Deutsch,Film,Recht auf Stadt,Wien
GEO:48.2010802;16.3093634
X-APPLE-STRUCTURED-LOCATION;VALUE=URI;X-ADDRESS=Breitenseer Lichtspiele Breitenseer Straße 21 1140 Wien 1140 Wien Vereinigte Staaten;X-APPLE-RADIUS=500;X-TITLE=Breitenseer Straße 21:geo:16.3093634,48.2010802
END:VEVENT
END:VCALENDAR