BEGIN:VCALENDAR
VERSION:2.0
PRODID:-//STRAWANZERIN - ECPv4.9.5//NONSGML v1.0//EN
CALSCALE:GREGORIAN
METHOD:PUBLISH
X-WR-CALNAME:STRAWANZERIN
X-ORIGINAL-URL:https://www.strawanzerin.at
X-WR-CALDESC:Veranstaltungen im STRAWANZERIN
BEGIN:VTIMEZONE
TZID:"Europe/Vienna"
BEGIN:DAYLIGHT
TZOFFSETFROM:+0100
TZOFFSETTO:+0200
TZNAME:CEST
DTSTART:20230326T010000
END:DAYLIGHT
BEGIN:STANDARD
TZOFFSETFROM:+0200
TZOFFSETTO:+0100
TZNAME:CET
DTSTART:20231029T010000
END:STANDARD
END:VTIMEZONE
BEGIN:VEVENT
DTSTART;TZID="Europe/Vienna":20230816T200000
DTEND;TZID="Europe/Vienna":20230816T220000
DTSTAMP:20260422T122619
CREATED:20230731T153647Z
LAST-MODIFIED:20230731T153647Z
UID:92629-1692216000-1692223200@www.strawanzerin.at
SUMMARY:Auf »Gut gegen Nordwind« folgt »Alle sieben Wellen«
DESCRIPTION:Daniel Glattauer’s Liebesdialog als Theater-Hit in der Komödie am Kai \nAufgrund der großen Nachfrage bringt die Komödie am Kai von 16. August bis 17. September die Wiederaufnahme ihrer erfolgreichen Inszenierung von Daniel Glattauer’s Bestseller-Roman »Gut gegen Nordwind«. Beinahe parallel dazu erzählt – als Fortsetzung – die Bühnenfassung von »Alle sieben Wellen«\, was aus der zauberhaften E-Mail-Freundschaft von Emmi und Leo eigentlich geworden ist. Vorstellungen von Teil 2 mit Anna Sophie Krenn und Anatol Rieger stehen von 22. August bis 23. September auf dem Spielplan. \n»Gut gegen Nordwind«:\n16. bis 19. August 2023\, 20 Uhr\n12. bis 16. September 2023\, 20 Uhr\nSonntag\, 17. September 2023\, 16 Uhr \n»Alle sieben Wellen«:\n22. bis 26. August 2023\, 20 Uhr\n19. bis 23. September 2023\, 20 Uhr \nInfo:\nTel. 01 533 24 34 \nBild: Anna Sophie Krenn und Anatol Rieger spielen Emmi und Leo\, Foto/© Komödie am Kai \n
URL:https://www.strawanzerin.at/termin/auf-gut-gegen-nordwind-folgt-alle-sieben-wellen/2023-08-16/
LOCATION:Komödie am Kai\, Franz-Josefs-Kai 29\, Wien\, Wien\, 1010\, Österreich
CATEGORIES:ab 7,Theater/Kabarett,Wien
ATTACH;FMTTYPE=image/jpeg:https://www.strawanzerin.at/wp-content/uploads/2023/07/wellen022-Kopie.jpg
GEO:48.2121522;16.3749182
X-APPLE-STRUCTURED-LOCATION;VALUE=URI;X-ADDRESS=Komödie am Kai Franz-Josefs-Kai 29 Wien Wien 1010 Österreich;X-APPLE-RADIUS=500;X-TITLE=Franz-Josefs-Kai 29:geo:16.3749182,48.2121522
END:VEVENT
END:VCALENDAR