BEGIN:VCALENDAR
VERSION:2.0
PRODID:-//STRAWANZERIN - ECPv4.9.5//NONSGML v1.0//EN
CALSCALE:GREGORIAN
METHOD:PUBLISH
X-WR-CALNAME:STRAWANZERIN
X-ORIGINAL-URL:https://www.strawanzerin.at
X-WR-CALDESC:Veranstaltungen im STRAWANZERIN
BEGIN:VTIMEZONE
TZID:"Europe/Paris"
BEGIN:DAYLIGHT
TZOFFSETFROM:+0100
TZOFFSETTO:+0200
TZNAME:CEST
DTSTART:20150329T010000
END:DAYLIGHT
BEGIN:STANDARD
TZOFFSETFROM:+0200
TZOFFSETTO:+0100
TZNAME:CET
DTSTART:20151025T010000
END:STANDARD
END:VTIMEZONE
BEGIN:VEVENT
DTSTART;TZID="Europe/Paris":20150916T160000
DTEND;TZID="Europe/Paris":20150916T210000
DTSTAMP:20260421T184618
CREATED:20150915T074423Z
LAST-MODIFIED:20150915T101434Z
UID:19727-1442419200-1442437200@www.strawanzerin.at
SUMMARY:AUFDIRNDLN
DESCRIPTION:Haben sie ein altes Dirndl von der Oma und möchten es gerne aufdirndln? Oder doch lieber abdirndln? Dieser Workshop bietet die Möglichkeit mit unserer Traditionskleidung experimentell zu arbeiten. Wer kein Dirndl daheim hat\, kommt und wählt sich aus dem Fundus eines aus.\nWorkshopleitung: Esther Weinberger \n
URL:https://www.strawanzerin.at/termin/aufdirndln/
LOCATION:Recycling Kosmos Zentrale\, Ottakringer Straße 63\, Wien\, Wien\, 1160\, Österreich
CATEGORIES:Deutsch,Eintrittspreis,Sonstiges,Wien,Workshop
ATTACH;FMTTYPE=:
GEO:48.2137812;16.3298013
X-APPLE-STRUCTURED-LOCATION;VALUE=URI;X-ADDRESS=Recycling Kosmos Zentrale Ottakringer Straße 63 Wien Wien 1160 Österreich;X-APPLE-RADIUS=500;X-TITLE=Ottakringer Straße 63:geo:16.3298013,48.2137812
END:VEVENT
END:VCALENDAR