BEGIN:VCALENDAR
VERSION:2.0
PRODID:-//STRAWANZERIN - ECPv4.9.5//NONSGML v1.0//EN
CALSCALE:GREGORIAN
METHOD:PUBLISH
X-WR-CALNAME:STRAWANZERIN
X-ORIGINAL-URL:https://www.strawanzerin.at
X-WR-CALDESC:Veranstaltungen im STRAWANZERIN
BEGIN:VTIMEZONE
TZID:"Europe/Vienna"
BEGIN:DAYLIGHT
TZOFFSETFROM:+0100
TZOFFSETTO:+0200
TZNAME:CEST
DTSTART:20230326T010000
END:DAYLIGHT
BEGIN:STANDARD
TZOFFSETFROM:+0200
TZOFFSETTO:+0100
TZNAME:CET
DTSTART:20231029T010000
END:STANDARD
END:VTIMEZONE
BEGIN:VEVENT
DTSTART;TZID="Europe/Vienna":20230614T150000
DTEND;TZID="Europe/Vienna":20230614T170000
DTSTAMP:20260421T065557
CREATED:20230526T124744Z
LAST-MODIFIED:20230526T124744Z
UID:91946-1686754800-1686762000@www.strawanzerin.at
SUMMARY:Augustin Geschichtenwerkstatt "Wegworte"
DESCRIPTION:Der Augustin macht unter dem Titel «Wegworte» am 14. Juni eine kleine Exkursion. Die Teilnehmenden schwärmen in der Umgebung des Augustin-Hauses aus und suchen und notieren oder fotografieren Geschriebenes\, das ihnen so unterkommt: Graffity\, Schilder\, Plakate\, Geschäftsnamen\, Aufschriften aller Art … Die gefundenen Worte werden zu Literatur der Straße.\nMit der Autorin und Schreibpädagogin Brigitta Höpler sowie Sylvia Galosi und Jenny Legenstein vom Augustin. \n14. Juni von 15 bis 17 Uhr \nOffen für alle\, die Freude am Schreiben und kreativen Tun haben.\nTeilnahme kostenlos\, über einen kleinen Obolus als Unkostenbeitrag freuen wir uns.\nOrt/Treffpunkt: Augustin Hof\n5.\, Reinprechtsdorfer Straße 31 \n
URL:https://www.strawanzerin.at/termin/augustin-geschichtenwerkstatt-wegworte/
LOCATION:Augustin – Die erste österreichische Boulevardzeitung\, 1050 Wien\, Reinprechtsdorfer Straße 31 / Hof\, Wien\, Wien\, 1050\, Österreich
CATEGORIES:Eintrittspreis,freie Spende,Gratis,Kategorie,Literatur,Region/Bundesland,Wien
ATTACH;FMTTYPE=image/jpeg:https://www.strawanzerin.at/wp-content/uploads/2023/05/24_575_GW.jpg
ORGANIZER;CN="Augustin%20Verein%20Sand%20%26amp%3B%20Zeit":MAILTO:redaktion@augustin.or.at
GEO:48.1859719;16.3534459
X-APPLE-STRUCTURED-LOCATION;VALUE=URI;X-ADDRESS=Augustin – Die erste österreichische Boulevardzeitung 1050 Wien Reinprechtsdorfer Straße 31 / Hof Wien Wien 1050 Österreich;X-APPLE-RADIUS=500;X-TITLE=1050 Wien\, Reinprechtsdorfer Straße 31 / Hof:geo:16.3534459,48.1859719
END:VEVENT
END:VCALENDAR