BEGIN:VCALENDAR
VERSION:2.0
PRODID:-//STRAWANZERIN - ECPv4.9.5//NONSGML v1.0//EN
CALSCALE:GREGORIAN
METHOD:PUBLISH
X-WR-CALNAME:STRAWANZERIN
X-ORIGINAL-URL:https://www.strawanzerin.at
X-WR-CALDESC:Veranstaltungen im STRAWANZERIN
BEGIN:VTIMEZONE
TZID:"Europe/Vienna"
BEGIN:DAYLIGHT
TZOFFSETFROM:+0100
TZOFFSETTO:+0200
TZNAME:CEST
DTSTART:20210328T010000
END:DAYLIGHT
BEGIN:STANDARD
TZOFFSETFROM:+0200
TZOFFSETTO:+0100
TZNAME:CET
DTSTART:20211031T010000
END:STANDARD
END:VTIMEZONE
BEGIN:VEVENT
DTSTART;TZID="Europe/Vienna":20211105T200000
DTEND;TZID="Europe/Vienna":20211105T213000
DTSTAMP:20260421T210531
CREATED:20211116T132654Z
LAST-MODIFIED:20220408T180412Z
UID:81686-1636142400-1636147800@www.strawanzerin.at
SUMMARY:Aus dem Nichts
DESCRIPTION:nach dem gleichnamigen Film von Fatih Akin \nÖsterreichische Erstaufführung \nInszenierung: Ali M. Abdullah\nBühne & Kostüm: Renato Uz\nDramaturgie: Hannah Lioba Egenolf\nRegieassistenz: Clara Obkircher\nMit: Zeynep Alan\, Constanze Passin\, Okan Cömert\, Sebastian Klein\, Peter Pertusini\, Sebastian Thiers\nBei einem Bombenanschlag werden Katjas Mann Nuri und ihr Sohn Rocco getötet. Betäubt von Trauer und Verzweiflung sucht sie in Drogen Zuflucht. Hoffnung schöpft Katja erst\, als zwei Neonazis festgenommen werden\, die unter Verdacht stehen\, für die Anschläge verantwortlich zu sein. Der Gerichtsprozess erweist sich als anstrengend\, doch Katja bleibt zuversichtlich\, dass es zu einer Verurteilung kommt. Als der Verteidiger der Gegenseite geschickt Zweifel sät\, kommt es zum Freispruch und Katjas Wut kennt keine Grenzen … \nZwischen 2000 und 2006 verübte der Nationalsozialistische Untergrund (NSU) aus rassistischen Motiven neun Morde in verschiedenen deutschen Großstädten. Fünf Jahre hat es gedauert\, bis die deutsche Justiz die verübten Gewaltverbrechen aufklären konnte\, nachdem sich die Ermittlungen zunächst auf das Drogenmilieu und das Umfeld der Ermordeten konzentrierte. Ein Skandal um die Arbeit der Polizei und Behörden\, die sich lange Zeit auf falsche Fährten versteifte.\nRegisseur Fatih Akin arbeitet das Thema anhand einer fiktiven Geschichte auf und verknüpft in seinem sich ausschließlich auf die Opferperspektive konzentrierenden Film Terrorismus-\, Gerichts- und Rache-Drama. Der von der Kritik hochgelobte Film gewann 2018 den Golden Globe und wurde für den Oscar nominiert. \nAufführungsdauer: ca. 100 Minuten\, keine Pause \n
URL:https://www.strawanzerin.at/termin/aus-dem-nichts-2/2021-11-05/
LOCATION:WERK X\, Oswaldgasse 35A\, Wien\, Wien\, 1120\, Österreich
CATEGORIES:Theater/Kabarett
ATTACH;FMTTYPE=image/jpeg:https://www.strawanzerin.at/wp-content/uploads/2021/11/Aus-dem-Nichts-1056766-Alex-Gotter.jpg
ORGANIZER;CN="WERK%20X":MAILTO:buero@werk-x.at
GEO:48.1662859;16.3245824
X-APPLE-STRUCTURED-LOCATION;VALUE=URI;X-ADDRESS=WERK X Oswaldgasse 35A Wien Wien 1120 Österreich;X-APPLE-RADIUS=500;X-TITLE=Oswaldgasse 35A:geo:16.3245824,48.1662859
END:VEVENT
END:VCALENDAR