BEGIN:VCALENDAR
VERSION:2.0
PRODID:-//STRAWANZERIN - ECPv4.9.5//NONSGML v1.0//EN
CALSCALE:GREGORIAN
METHOD:PUBLISH
X-WR-CALNAME:STRAWANZERIN
X-ORIGINAL-URL:https://www.strawanzerin.at
X-WR-CALDESC:Veranstaltungen im STRAWANZERIN
BEGIN:VTIMEZONE
TZID:"Europe/Vienna"
BEGIN:DAYLIGHT
TZOFFSETFROM:+0100
TZOFFSETTO:+0200
TZNAME:CEST
DTSTART:20250330T010000
END:DAYLIGHT
BEGIN:STANDARD
TZOFFSETFROM:+0200
TZOFFSETTO:+0100
TZNAME:CET
DTSTART:20251026T010000
END:STANDARD
END:VTIMEZONE
BEGIN:VEVENT
DTSTART;TZID="Europe/Vienna":20251120T170000
DTEND;TZID="Europe/Vienna":20251121T210000
DTSTAMP:20260421T135746
CREATED:20250904T075040Z
LAST-MODIFIED:20250904T075040Z
UID:109367-1763658000-1763758800@www.strawanzerin.at
SUMMARY:Aussage gegen Aussage. Wie fehleranfällig ist das Recht?
DESCRIPTION:Filmscreening\, Fachtagung und Podiumsdiskussion zum Thema Wie fehleranfällig ist das Recht?\nWeiter Informationen\, genauer Ablauf und Anmeldung unter:\nash-forum.at/site/veranstaltungen/eventman.event/195.html \n
URL:https://www.strawanzerin.at/termin/aussage-gegen-aussage-wie-fehleranfaellig-ist-das-recht/
END:VEVENT
END:VCALENDAR