BEGIN:VCALENDAR
VERSION:2.0
PRODID:-//STRAWANZERIN - ECPv4.9.5//NONSGML v1.0//EN
CALSCALE:GREGORIAN
METHOD:PUBLISH
X-WR-CALNAME:STRAWANZERIN
X-ORIGINAL-URL:https://www.strawanzerin.at
X-WR-CALDESC:Veranstaltungen im STRAWANZERIN
BEGIN:VTIMEZONE
TZID:"Europe/Vienna"
BEGIN:DAYLIGHT
TZOFFSETFROM:+0100
TZOFFSETTO:+0200
TZNAME:CEST
DTSTART:20220327T010000
END:DAYLIGHT
BEGIN:STANDARD
TZOFFSETFROM:+0200
TZOFFSETTO:+0100
TZNAME:CET
DTSTART:20221030T010000
END:STANDARD
END:VTIMEZONE
BEGIN:VEVENT
DTSTART;TZID="Europe/Vienna":20221102T180000
DTEND;TZID="Europe/Vienna":20221102T220000
DTSTAMP:20260421T121936
CREATED:20220926T122448Z
LAST-MODIFIED:20221006T095743Z
UID:86859-1667412000-1667426400@www.strawanzerin.at
SUMMARY:Ausstellung - dia de los muertos
DESCRIPTION:atelier blumentopf contemporary gallery proudly presents:\ndia de los muertos \nArbeiten von Christian Emil Cerny & Mike Blumentopf \n2.11. 18 uhr vernissage\n3.11. 12-19 offen\n4.11. 12-19 offen\n5.11. 12 – 17 uhr Finissage \nChristian Emil Cerny > https://ccerny.com \nMike Blumentopf > https://blumentopf.at \natelier blumentopf contemporary gallery\n1180 wien – martinstr. 74\nwww.blumentopf.at \n
URL:https://www.strawanzerin.at/termin/ausstellung-dia-de-los-muertos/
LOCATION:ABCG – Atelier Blumentopf Contemporary Gallery\, Martinstr. 74\, Wien\, Wien\, 1180\, Österreich
CATEGORIES:Ausstellung
ATTACH;FMTTYPE=image/jpeg:https://www.strawanzerin.at/wp-content/uploads/2022/09/dia-2.jpg
ORGANIZER;CN="Mike%20Blumentopf":MAILTO:mike@blumentopf.at
GEO:48.2243732;16.3421065
X-APPLE-STRUCTURED-LOCATION;VALUE=URI;X-ADDRESS=ABCG – Atelier Blumentopf Contemporary Gallery Martinstr. 74 Wien Wien 1180 Österreich;X-APPLE-RADIUS=500;X-TITLE=Martinstr. 74:geo:16.3421065,48.2243732
END:VEVENT
END:VCALENDAR