BEGIN:VCALENDAR
VERSION:2.0
PRODID:-//STRAWANZERIN - ECPv4.9.5//NONSGML v1.0//EN
CALSCALE:GREGORIAN
METHOD:PUBLISH
X-WR-CALNAME:STRAWANZERIN
X-ORIGINAL-URL:https://www.strawanzerin.at
X-WR-CALDESC:Veranstaltungen im STRAWANZERIN
BEGIN:VTIMEZONE
TZID:"Europe/Vienna"
BEGIN:DAYLIGHT
TZOFFSETFROM:+0100
TZOFFSETTO:+0200
TZNAME:CEST
DTSTART:20220327T010000
END:DAYLIGHT
BEGIN:STANDARD
TZOFFSETFROM:+0200
TZOFFSETTO:+0100
TZNAME:CET
DTSTART:20221030T010000
END:STANDARD
END:VTIMEZONE
BEGIN:VEVENT
DTSTART;TZID="Europe/Vienna":20221015T200000
DTEND;TZID="Europe/Vienna":20221015T230000
DTSTAMP:20260421T190853
CREATED:20220927T215455Z
LAST-MODIFIED:20221006T095607Z
UID:86876-1665864000-1665874800@www.strawanzerin.at
SUMMARY:Ausstellung mit Musik
DESCRIPTION:Grafische Bilder von Édua Zádory  mit Musik begleitet . Édua Zádory- Violine\, Markus Adenberger- Klarinette\, gabriel Squizzato-Viola und Santo Scala -Cello.\nEs werden argentinische Musikstücke teilweise zu den Grafiken uraufgeführt von Komponisten  wie Hernán Quintela\, Lucio Bruno Videla\, Cecilia Fiorentino\, Néstor javier Ciravolo\, Giuliana Di Pietro\, Esteban Ariel D’antona und Marcelo Zanardo. Kooperation mit Argentinischen Komponisten Verband.\nEs werden eigene grafikdesigned EduArt T-Shirt angeboten. Wir freuen uns den Abend mit Euch zu teilen. Frei Spende wird erbeten. \n
URL:https://www.strawanzerin.at/termin/ausstellung-mit-musik/
LOCATION:Sechsschimmelgalerie\, Sechsschimmmelgasse 14\, wien\, 1060\, Österreich
CATEGORIES:Ausstellung,freie Spende
ATTACH;FMTTYPE=image/jpeg:https://www.strawanzerin.at/wp-content/uploads/2022/09/Vernissage-am-15.Oktober.jpg
END:VEVENT
END:VCALENDAR