BEGIN:VCALENDAR
VERSION:2.0
PRODID:-//STRAWANZERIN - ECPv4.9.5//NONSGML v1.0//EN
CALSCALE:GREGORIAN
METHOD:PUBLISH
X-WR-CALNAME:STRAWANZERIN
X-ORIGINAL-URL:https://www.strawanzerin.at
X-WR-CALDESC:Veranstaltungen im STRAWANZERIN
BEGIN:VTIMEZONE
TZID:"Europe/Vienna"
BEGIN:DAYLIGHT
TZOFFSETFROM:+0100
TZOFFSETTO:+0200
TZNAME:CEST
DTSTART:20170326T010000
END:DAYLIGHT
BEGIN:STANDARD
TZOFFSETFROM:+0200
TZOFFSETTO:+0100
TZNAME:CET
DTSTART:20171029T010000
END:STANDARD
END:VTIMEZONE
BEGIN:VEVENT
DTSTART;TZID="Europe/Vienna":20171216T150000
DTEND;TZID="Europe/Vienna":20171216T160000
DTSTAMP:20260421T154703
CREATED:20171019T114236Z
LAST-MODIFIED:20171023T125946Z
UID:47987-1513436400-1513440000@www.strawanzerin.at
SUMMARY:Ausstellungs­führung "Form folgt Paragraph"
DESCRIPTION:Die Ausstellung „Form folgt Paragraph“ holt jene Regelwerke vor den Vorhang\, die es selten auf die Bühne eines Architekturmuseums schaffen. Sie lenkt den Blick kritisch\, aber auch unausweichlich humorvoll auf den rechtlichen Subtext von Architektur und Stadtentwicklung. Fallstudien\, Begriffsklärungen\, historische und internationale Vergleiche machen sichtbar\, wie stark legistische und normierende Kompendien die gebaute Umwelt mitgestalten.Eintrittspreise\nTickets: € 11\,40 (Eintritt + Führung)\, ermäßigt € 9\,40 (Eintritt + Führung)\, Student*innen € 2\,40 (Führung\, Eintritt frei)\, medium- und large-Partner*innen gratis (Eintritt + Führung frei).\nRückfragen\nLisa Kusebauch-Kaiser\n+43-1-522 31 15\noffice@azw.at \n
URL:https://www.strawanzerin.at/termin/ausstellungs%c2%adfuehrung-form-folgt-paragraph/
LOCATION:Architekturzentrum Wien\, Museumsplatz 1\, Wien\, Wien\, 1200\, Österreich
CATEGORIES:Ausstellung
ATTACH;FMTTYPE=image/jpeg:https://www.strawanzerin.at/wp-content/uploads/2017/10/03_Hinweisschild_c_KM-1.jpg
GEO:48.2034986;16.3591175
X-APPLE-STRUCTURED-LOCATION;VALUE=URI;X-ADDRESS=Architekturzentrum Wien Museumsplatz 1 Wien Wien 1200 Österreich;X-APPLE-RADIUS=500;X-TITLE=Museumsplatz 1:geo:16.3591175,48.2034986
END:VEVENT
END:VCALENDAR