BEGIN:VCALENDAR
VERSION:2.0
PRODID:-//STRAWANZERIN - ECPv4.9.5//NONSGML v1.0//EN
CALSCALE:GREGORIAN
METHOD:PUBLISH
X-WR-CALNAME:STRAWANZERIN
X-ORIGINAL-URL:https://www.strawanzerin.at
X-WR-CALDESC:Veranstaltungen im STRAWANZERIN
BEGIN:VTIMEZONE
TZID:"Europe/Vienna"
BEGIN:DAYLIGHT
TZOFFSETFROM:+0100
TZOFFSETTO:+0200
TZNAME:CEST
DTSTART:20180325T010000
END:DAYLIGHT
BEGIN:STANDARD
TZOFFSETFROM:+0200
TZOFFSETTO:+0100
TZNAME:CET
DTSTART:20181028T010000
END:STANDARD
END:VTIMEZONE
BEGIN:VEVENT
DTSTART;TZID="Europe/Vienna":20181121T190000
DTEND;TZID="Europe/Vienna":20181121T210000
DTSTAMP:20260421T131035
CREATED:20180917T084400Z
LAST-MODIFIED:20180919T075218Z
UID:58846-1542826800-1542834000@www.strawanzerin.at
SUMMARY:Ausstellungseröffnung: Downtown Denise Scott Brown
DESCRIPTION:In den letzten 50 Jahren hat Denise Scott Brown die Entwicklung der Architektur maßgeblich geprägt. Höchste Zeit für die weltweit erste umfassende Einzelausstellung zum Werk der heute 86-jährigen Architektin\, Stadtplanerin\, Lehrerin und Autorin. \nMit ihren Projekten\, fotografischen Recherchen und Büchern beeinflusste Denise Scott Brown seit den 1960er Jahren Architekt*innen und Theoretiker*innen auf der ganzen Welt. Bekannt ist Scott Brown\, gemeinsam mit ihrem Arbeits- und Lebenspartner Robert Venturi\, als heftige Kritikerin einer Moderne\, die Kontext und Geschichte\, aber auch gemeinsame Kreativität beharrlich ignorierte. Aus ihrem Universitätsprojekt zu Las Vegas von 1972 entstand das legendäre Buch „Learning from Las Vegas“\, dessen visueller und sozialer Einfluss bis heute spürbar ist. Scott Browns Entwürfe und Theorien wurden aber auch oft missverstanden. Heute\, da sich eine jüngere Generation von Architekt*innen wieder dieser Komplexität verschreibt\, sind ihre undogmatische Formensprache\, ihre zurückhaltenden urbanen Eingriffe\, aber auch ihre manieristischen Eskapaden reif für eine Wiederentdeckung. \nDie Ausstellung vergegenwärtigt die Ideen und den Einfluss von Denise Scott Brown\, indem sie ein imaginäres städtisches Setting in die Ausstellungshalle des Architekturzentrum Wien einpasst. Entlang urbaner Fassaden und Schaufenster entfaltet sich das weite Universum der Grande Dame der Architektur mit Originalobjekten\, Fotos\, Kollagen\, Zitaten\, Plänen und Videos. Der Bogen der Ausstellung erstreckt sich von ihrer Kindheit in Afrika und ihren ausgedehnten Studienreisen auf der ganzen Welt über ihre berühmten fotografischen Projekte\, ihre Schriften und bahnbrechenden Studien bis zu ihrer architektonischen und urbanistischen Arbeit auf vier Kontinenten. Tauchen Sie ein in „Downtown Denise Scott Brown“ und in dieses faszinierende Leben und Werk! \nKonzept und Gestaltung: Jeremy Tenenbaum mit Denise Scott Brown \n
URL:https://www.strawanzerin.at/termin/ausstellungseroeffnung-downtown-denise-scott-brown/
LOCATION:Achitekturzentrum Wien\, Museumsplatz 1\, 1070 Wien\, 1070\, Österreich
CATEGORIES:Ausstellung
ATTACH;FMTTYPE=image/jpeg:https://www.strawanzerin.at/wp-content/uploads/2018/09/DSB_01k.jpg
END:VEVENT
END:VCALENDAR