BEGIN:VCALENDAR
VERSION:2.0
PRODID:-//STRAWANZERIN - ECPv4.9.5//NONSGML v1.0//EN
CALSCALE:GREGORIAN
METHOD:PUBLISH
X-WR-CALNAME:STRAWANZERIN
X-ORIGINAL-URL:https://www.strawanzerin.at
X-WR-CALDESC:Veranstaltungen im STRAWANZERIN
BEGIN:VTIMEZONE
TZID:"Europe/Vienna"
BEGIN:DAYLIGHT
TZOFFSETFROM:+0100
TZOFFSETTO:+0200
TZNAME:CEST
DTSTART:20190331T010000
END:DAYLIGHT
BEGIN:STANDARD
TZOFFSETFROM:+0200
TZOFFSETTO:+0100
TZNAME:CET
DTSTART:20191027T010000
END:STANDARD
END:VTIMEZONE
BEGIN:VEVENT
DTSTART;TZID="Europe/Vienna":20190110T170000
DTEND;TZID="Europe/Vienna":20190110T230000
DTSTAMP:20260420T121522
CREATED:20181211T090321Z
LAST-MODIFIED:20181212T145612Z
UID:61116-1547139600-1547161200@www.strawanzerin.at
SUMMARY:Ausstellungseröffnung Kind – Kunst – Frust?
DESCRIPTION:Das Feld das sich auftut\, wenn man ein Kind bekommt\, ist ambivalent und spannungsgeladen. Die Entscheidung für oder gegen Familie ist speziell für Künstler*innen eine Entscheidung\, die sich direkt auf Karrieremöglichkeiten auswirkt. In dieser Ausstellung lassen wir Künstler*innen zu Wort kommen\, die sich in diesem Spannungsfeld befinden.\nWir zeigen Arbeiten\, die sich mit der Sichtbarkeit\, dieses Problems\, aber auch mit den sozial konstruierten Zuordnungen und Erwartungshaltungen an Geschlechter und Künstler*innen beschäftigen. \nAlexandra Zaitseva\nMiriam Laussegger\nHannah Menne\nPauline Debrichy\nLars Kollros\nMarina Rebhandl\nKatharina Sieghartsleitner\nYu Yu \nDie Veranstaltung findet im Rahmen des Grätzelfestes Weißgerberviertel statt. Unter anderem finden auch Veranstaltungen im KUNST HAUS WIEN. Museum Hundertwasser und im Loft 8 Kunstraum statt. \nProgramm:\n18:00 Führung durch die Ausstellung\n18:30 Lesung vonHannah Menne\n18:50 Filmvorführung Kurzfilm (Welturaufführung) \nDanach sind die Künstler*innen natürlich für Fragen anwesend. \n
URL:https://www.strawanzerin.at/termin/ausstellungseroeffnung-kind-kunst-frust/
LOCATION:Kunst im Keller\, untere Weißgerberstr 11\, Wien\, Wien\, 1030\, Österreich
CATEGORIES:Ausstellung,Kunst/Kultur
ATTACH;FMTTYPE=image/jpeg:https://www.strawanzerin.at/wp-content/uploads/2018/12/IMG_0202.jpg
ORGANIZER;CN="Kunst%20im%20Keller":MAILTO:info@kunst-im-keller.at
END:VEVENT
END:VCALENDAR