BEGIN:VCALENDAR
VERSION:2.0
PRODID:-//STRAWANZERIN - ECPv4.9.5//NONSGML v1.0//EN
CALSCALE:GREGORIAN
METHOD:PUBLISH
X-WR-CALNAME:STRAWANZERIN
X-ORIGINAL-URL:https://www.strawanzerin.at
X-WR-CALDESC:Veranstaltungen im STRAWANZERIN
BEGIN:VTIMEZONE
TZID:"Europe/Vienna"
BEGIN:DAYLIGHT
TZOFFSETFROM:+0100
TZOFFSETTO:+0200
TZNAME:CEST
DTSTART:20260329T010000
END:DAYLIGHT
BEGIN:STANDARD
TZOFFSETFROM:+0200
TZOFFSETTO:+0100
TZNAME:CET
DTSTART:20261025T010000
END:STANDARD
END:VTIMEZONE
BEGIN:VEVENT
DTSTART;TZID="Europe/Vienna":20260310T183000
DTEND;TZID="Europe/Vienna":20260310T200000
DTSTAMP:20260423T142130
CREATED:20251217T134019Z
LAST-MODIFIED:20251217T134019Z
UID:111544-1773167400-1773172800@www.strawanzerin.at
SUMMARY:Ausstellungseröffnung: Zu Gast bei Arnold Schönberg
DESCRIPTION:Ausstellung »Zu Gast bei Arnold Schönberg« \nUlrike Anton\, Direktorin\nTherese Muxeneder\, Kuratorin\nHelga Rabl-Stadler\, Blick auf Schönberg\nVeronica Kaup-Hasler\, Eröffnung \n… wenn Sie mich besuchen wollen\, werden Sie mir immer angenehm sein; da müssen Sie gar nicht vorher fragen\, ob Sie sollen\, höchstens ob ich zuhause bin …\nArnold Schönberg\, der Gastgeber \nBildnachweis: Nuria\, Arnold und Gertrud Schönberg\, Henriette Kolisch\, Mitzi und Mischa Seligmann; Rockingham Avenue\, Los Angeles\, 1937 | Arnold Schönberg Center\, Wien \n
URL:https://www.strawanzerin.at/termin/ausstellungseroeffnung-zu-gast-bei-arnold-schoenberg/
LOCATION:Arnold Schönberg Center – Palais Fanto\, Schwarzenbergplatz 6 / Eingang Zaunergasse 1-3\, Wien\, 1030\, Österreich
CATEGORIES:Deutsch,Gratis,Kunst/Kultur,Wien
ATTACH;FMTTYPE=image/jpeg:https://www.strawanzerin.at/wp-content/uploads/2025/12/ausstellunggaeste.jpg
ORGANIZER;CN="Arnold%20Sch%C3%B6nberg%20Center":MAILTO:shop@schoenberg.at
END:VEVENT
END:VCALENDAR