BEGIN:VCALENDAR
VERSION:2.0
PRODID:-//STRAWANZERIN - ECPv4.9.5//NONSGML v1.0//EN
CALSCALE:GREGORIAN
METHOD:PUBLISH
X-WR-CALNAME:STRAWANZERIN
X-ORIGINAL-URL:https://www.strawanzerin.at
X-WR-CALDESC:Veranstaltungen im STRAWANZERIN
BEGIN:VTIMEZONE
TZID:"Europe/Vienna"
BEGIN:DAYLIGHT
TZOFFSETFROM:+0100
TZOFFSETTO:+0200
TZNAME:CEST
DTSTART:20210328T010000
END:DAYLIGHT
BEGIN:STANDARD
TZOFFSETFROM:+0200
TZOFFSETTO:+0100
TZNAME:CET
DTSTART:20211031T010000
END:STANDARD
END:VTIMEZONE
BEGIN:VEVENT
DTSTART;TZID="Europe/Vienna":20211103T180000
DTEND;TZID="Europe/Vienna":20211103T200000
DTSTAMP:20260420T161642
CREATED:20210922T185827Z
LAST-MODIFIED:20210927T083438Z
UID:80634-1635962400-1635969600@www.strawanzerin.at
SUMMARY:Ausstellungspräsentation Walter Kanov
DESCRIPTION:Walter Kanov – Rakelbilder. Acrylmalerei. Künstlergespräch  \n
URL:https://www.strawanzerin.at/termin/ausstellungspraesentation-walter-kanov/
LOCATION:Cafe Club International C.I.\, Payergasse 14\, Wien\, Wien\, 1160\, Österreich
CATEGORIES:Ausstellung,Gratis,Kunst/Kultur,Wien
ATTACH;FMTTYPE=image/jpeg:https://www.strawanzerin.at/wp-content/uploads/2021/09/2021_11_03-KANOV-AUSSTELLUNGSPRAESENTATION-KUENSTLERGESPRAECH-w.jpg
ORGANIZER;CN="Ursula%20Pfeiffer%20verein%20%3A%3Akunst-projekte%3A%3A%20der%20%5Bgalerie%5Dstudio38%20zvr%20123612155":MAILTO:office@galeriestudio38.at
END:VEVENT
END:VCALENDAR