BEGIN:VCALENDAR
VERSION:2.0
PRODID:-//STRAWANZERIN - ECPv4.9.5//NONSGML v1.0//EN
CALSCALE:GREGORIAN
METHOD:PUBLISH
X-WR-CALNAME:STRAWANZERIN
X-ORIGINAL-URL:https://www.strawanzerin.at
X-WR-CALDESC:Veranstaltungen im STRAWANZERIN
BEGIN:VTIMEZONE
TZID:"Europe/Helsinki"
BEGIN:DAYLIGHT
TZOFFSETFROM:+0200
TZOFFSETTO:+0300
TZNAME:EEST
DTSTART:20150329T010000
END:DAYLIGHT
BEGIN:STANDARD
TZOFFSETFROM:+0300
TZOFFSETTO:+0200
TZNAME:EET
DTSTART:20151025T010000
END:STANDARD
END:VTIMEZONE
BEGIN:VEVENT
DTSTART;TZID="Europe/Helsinki":20150509T190000
DTEND;TZID="Europe/Helsinki":20150509T220000
DTSTAMP:20260421T121538
CREATED:20150409T160207Z
LAST-MODIFIED:20150413T163327Z
UID:12826-1431198000-1431208800@www.strawanzerin.at
SUMMARY:Austropop Nacht
DESCRIPTION:LIVE MUSIK!\nAm Samstag den 9.5. dürfen wir wieder Hr Derrisch\, Wolfgang Stefl und Alexander Karlin in der apothek´n begrüßen.\nWir freuen uns auf einen tollen Abend mit viel Austropop! \nEintritt frei! \n
URL:https://www.strawanzerin.at/termin/austropop-nacht/
LOCATION:Österreich
CATEGORIES:Deutsch,Gratis,Musik,Wien
ATTACH;FMTTYPE=image/jpeg:https://www.strawanzerin.at/wp-content/uploads/2015/04/11094019_10206695850499367_1231249091_n.jpg
ORGANIZER;CN="Robert%20Kastner":MAILTO:office@apothekn.at
END:VEVENT
END:VCALENDAR