BEGIN:VCALENDAR
VERSION:2.0
PRODID:-//STRAWANZERIN - ECPv4.9.5//NONSGML v1.0//EN
CALSCALE:GREGORIAN
METHOD:PUBLISH
X-WR-CALNAME:STRAWANZERIN
X-ORIGINAL-URL:https://www.strawanzerin.at
X-WR-CALDESC:Veranstaltungen im STRAWANZERIN
BEGIN:VTIMEZONE
TZID:"Europe/Vienna"
BEGIN:DAYLIGHT
TZOFFSETFROM:+0100
TZOFFSETTO:+0200
TZNAME:CEST
DTSTART:20230326T010000
END:DAYLIGHT
BEGIN:STANDARD
TZOFFSETFROM:+0200
TZOFFSETTO:+0100
TZNAME:CET
DTSTART:20231029T010000
END:STANDARD
END:VTIMEZONE
BEGIN:VEVENT
DTSTART;TZID="Europe/Vienna":20230612T180000
DTEND;TZID="Europe/Vienna":20230612T200000
DTSTAMP:20260421T031601
CREATED:20230515T173706Z
LAST-MODIFIED:20230515T173706Z
UID:91507-1686592800-1686600000@www.strawanzerin.at
SUMMARY:Auswirkungen von Tempolimits auf Österreichs Straßen
DESCRIPTION:Im Vortrag werden die Wirkungen von geringeren Geschwindigkeiten\, konkret Tempo 100 auf Autobahnen\, Tempo 80 auf Freilandstraßen und Tempo 30 im Ortsgebieten\, basierend auf verkehrswissenschaftlichen Erkenntnissen dargestellt und mit dem Auditorium diskutiert. \nVortragender: Günter Emberger \n
URL:https://www.strawanzerin.at/termin/auswirkungen-von-tempolimits-auf-oesterreichs-strassen/
LOCATION:1040\, Diplomatische Akademie\, Favoritenstraße 15a\, Wien\, 1040\, Österreich
CATEGORIES:Vortrag/Symposium
ORGANIZER;CN="Club%20of%20Vienna":MAILTO:sekretariat@clubofvienna.org
END:VEVENT
END:VCALENDAR