BEGIN:VCALENDAR
VERSION:2.0
PRODID:-//STRAWANZERIN - ECPv4.9.5//NONSGML v1.0//EN
CALSCALE:GREGORIAN
METHOD:PUBLISH
X-WR-CALNAME:STRAWANZERIN
X-ORIGINAL-URL:https://www.strawanzerin.at
X-WR-CALDESC:Veranstaltungen im STRAWANZERIN
BEGIN:VTIMEZONE
TZID:"Europe/Vienna"
BEGIN:DAYLIGHT
TZOFFSETFROM:+0100
TZOFFSETTO:+0200
TZNAME:CEST
DTSTART:20260329T010000
END:DAYLIGHT
BEGIN:STANDARD
TZOFFSETFROM:+0200
TZOFFSETTO:+0100
TZNAME:CET
DTSTART:20261025T010000
END:STANDARD
END:VTIMEZONE
BEGIN:VEVENT
DTSTART;TZID="Europe/Vienna":20260306T153000
DTEND;TZID="Europe/Vienna":20260306T180000
DTSTAMP:20260421T185141
CREATED:20260225T142004Z
LAST-MODIFIED:20260225T142004Z
UID:112870-1772811000-1772820000@www.strawanzerin.at
SUMMARY:Autorinnenchor
DESCRIPTION:Der ≠igfem AutorinnenTextChor bringt feministische Texte und Perspektiven in einer kraftvollen\, kollektiven Performance in den öffentlichen Raum. Literatur wird dabei nicht gelesen\, sondern gesprochen\, geschichtet\, geflüstert und gerufen – als vielstimmiger Klangraum\, der Sprache körperlich und politisch erfahrbar macht. \nIm Rahmen des Internationalen Frauentags verbindet die Performance Literatur\, Kunst und gesellschaftskritischen Dialog. Die Stimmen der Autorinnen treten als Chor auf: einzeln\, gemeinsam\, widersprechend und verstärkend. So entsteht ein interaktives und inklusives Format\, das zum Zuhören\, Nachdenken und Austausch einlädt und feministische Themen für ein breites Publikum zugänglich macht. \n
URL:https://www.strawanzerin.at/termin/autorinnenchor/
LOCATION:Bücherei Wieden\, Paulanerstrasse 1\, Wien\, Wien\, 1050
CATEGORIES:Feminismus,Gratis,Literatur,Wien
ATTACH;FMTTYPE=image/jpeg:https://www.strawanzerin.at/wp-content/uploads/2026/02/textchorfotos2025.jpg
ORGANIZER;CN="%E2%89%A0igfem":MAILTO:support@igfem.at
END:VEVENT
END:VCALENDAR