BEGIN:VCALENDAR
VERSION:2.0
PRODID:-//STRAWANZERIN - ECPv4.9.5//NONSGML v1.0//EN
CALSCALE:GREGORIAN
METHOD:PUBLISH
X-WR-CALNAME:STRAWANZERIN
X-ORIGINAL-URL:https://www.strawanzerin.at
X-WR-CALDESC:Veranstaltungen im STRAWANZERIN
BEGIN:VTIMEZONE
TZID:"Europe/Helsinki"
BEGIN:DAYLIGHT
TZOFFSETFROM:+0200
TZOFFSETTO:+0300
TZNAME:EEST
DTSTART:20150329T010000
END:DAYLIGHT
BEGIN:STANDARD
TZOFFSETFROM:+0300
TZOFFSETTO:+0200
TZNAME:EET
DTSTART:20151025T010000
END:STANDARD
END:VTIMEZONE
BEGIN:VEVENT
DTSTART;TZID="Europe/Helsinki":20150222T212000
DTEND;TZID="Europe/Helsinki":20150222T212000
DTSTAMP:20260420T215751
CREATED:20150225T103105Z
LAST-MODIFIED:20150225T103105Z
UID:11395-1424640000-1424640000@www.strawanzerin.at
SUMMARY:AVANTGARDE.  DYNAMISIERUNG DER KÜNSTE
DESCRIPTION:Ringvorlesung \n
URL:https://www.strawanzerin.at/termin/avantgarde-dynamisierung-der-kuenste/
CATEGORIES:Deutsch,Gratis,Kunst/Kultur,Vortrag/Symposium,Wien
ATTACH;FMTTYPE=image/jpeg:https://www.strawanzerin.at/wp-content/uploads/2015/02/Ringvorlesung.jpg
END:VEVENT
END:VCALENDAR