BEGIN:VCALENDAR
VERSION:2.0
PRODID:-//STRAWANZERIN - ECPv4.9.5//NONSGML v1.0//EN
CALSCALE:GREGORIAN
METHOD:PUBLISH
X-WR-CALNAME:STRAWANZERIN
X-ORIGINAL-URL:https://www.strawanzerin.at
X-WR-CALDESC:Veranstaltungen im STRAWANZERIN
BEGIN:VTIMEZONE
TZID:"Europe/Vienna"
BEGIN:DAYLIGHT
TZOFFSETFROM:+0100
TZOFFSETTO:+0200
TZNAME:CEST
DTSTART:20240331T010000
END:DAYLIGHT
BEGIN:STANDARD
TZOFFSETFROM:+0200
TZOFFSETTO:+0100
TZNAME:CET
DTSTART:20241027T010000
END:STANDARD
END:VTIMEZONE
BEGIN:VEVENT
DTSTART;TZID="Europe/Vienna":20241109T220000
DTEND;TZID="Europe/Vienna":20241110T060000
DTSTAMP:20260421T121139
CREATED:20241108T130314Z
LAST-MODIFIED:20241108T130314Z
UID:104500-1731189600-1731218400@www.strawanzerin.at
SUMMARY:AwA* Soliparty - HelloQueer
DESCRIPTION:✨ Join us for a series of Solidarity Parties! ✨\nThis is our Dancefloor & AwA* in collaboration with Initiative 21 and Booster Club presents: \nHelloQueer \n🔥 You have time and would like to support with a soli shift at bar\, entrance or awareness? Write us! 💜 \nCheck out the Lineup! (infos below) \nOur solidarity party series continues\, and we’re excited to invite you to HelloQueer — our Halloween-themed event where everyone can let their inner fabulousness shine! 🌈🎃 \nFollowing the incredible energy of “Summer is Not Over!” on October 5th\, we’re keeping the momentum to raise crucial funds to challenge bureaucracy. Because of bureaucratic issues\, we were prevented from employing non-EU citizens. This is now solved but there is still a financial gap to fill. Through the party you directly support those affected by this decision\, so let’s keep dancing for a change! 🌍🤝 \n🎉 Up Next: “HelloQueer” 🎉\n🕸️ Halloween Vibes\, Queer Spirits\, and Full-On Fun!\n📅 November 9th\n20h – Queer Speed Dating\n22h – 06h – Party Time\n📍 4lthangrund\, Augasse 2-6 / alte Mensa \nThis event is made possible through the collaboration with 4lthangrund „This is our Dancefloor“\, Initiative 21 and Booster Club! 👻\nExpect a night of spine-tingling performances\, killer DJ sets\, and a hauntingly good time with a lineup to make you scream (in a good way)! \n🕸️ Costumes encouraged! 🕸️ \nFuture dates to keep in mind:\n📅 November 22th Talk: War’s das bald\, mit Raven gegen Rechts? (20h)\n📅 November 23rd: Winter? Nein Danke! ❄️ (13h – 22h)\n📅 December 7th: This is our Dancefloor (21h – 6h) \nLet’s unite\, support\, and keep dancing in solidarity! We can’t wait to see you there! 🧛‍♀️💫 \nProgram / Lineup:\nAwareness by AwA*\n20h Queer Speed Dating\nExtra fancy Kostnix-Laden\nConcert: FREMDE SPUCKE\nDJ Lucy Bacchanal b2b I got a new drug dealer\nefulim aaaand\nDJ Rich Parents\nFra\nMilla Piso\nJulo b2b Akkut\n☆tba☆\nDisc Hockey \nDetails via: https://www.4lthangrund.jetzt/this-is-our-dancefloor-4lthangrund/ \n
URL:https://www.strawanzerin.at/termin/awa-soliparty-helloqueer/
LOCATION:4lthangrund\, Augasse 2-6\, Wien\, Wien\, 1090\, Österreich
CATEGORIES:Party
ATTACH;FMTTYPE=image/png:https://www.strawanzerin.at/wp-content/uploads/2024/11/signal-2024-11-04-115033_002.png
END:VEVENT
END:VCALENDAR