BEGIN:VCALENDAR
VERSION:2.0
PRODID:-//STRAWANZERIN - ECPv4.9.5//NONSGML v1.0//EN
CALSCALE:GREGORIAN
METHOD:PUBLISH
X-WR-CALNAME:STRAWANZERIN
X-ORIGINAL-URL:https://www.strawanzerin.at
X-WR-CALDESC:Veranstaltungen im STRAWANZERIN
BEGIN:VTIMEZONE
TZID:"Europe/Vienna"
BEGIN:DAYLIGHT
TZOFFSETFROM:+0100
TZOFFSETTO:+0200
TZNAME:CEST
DTSTART:20230326T010000
END:DAYLIGHT
BEGIN:STANDARD
TZOFFSETFROM:+0200
TZOFFSETTO:+0100
TZNAME:CET
DTSTART:20231029T010000
END:STANDARD
END:VTIMEZONE
BEGIN:VEVENT
DTSTART;TZID="Europe/Vienna":20230805T190000
DTEND;TZID="Europe/Vienna":20230805T193000
DTSTAMP:20260420T212627
CREATED:20230620T164336Z
LAST-MODIFIED:20230620T164336Z
UID:92289-1691262000-1691263800@www.strawanzerin.at
SUMMARY:Award Ceremony ImPulsTanz – Young Choreographers’ Award
DESCRIPTION:Wir laden Sie herzlich zur Verleihung des 2018 ins Leben gerufenen ImPulsTanz – Young Choreographers’ Award\, der auch 2023 wieder unter den Künstler*innen der [8:tension] Young Choreographers’ Series vergeben wird\, ein. Ausgelobt wird der mit 5.000 Euro und einer Artistic Residency bei ImPulsTanz 2024 dotierte Preis von der hochkarätigen Fachjury bestehend aus Choreografin und Tänzerin Tamara Alegre\, Kuratorin\, Autorin und Kulturwissenschaftlerin Anna Kozonina und Kurator und Dramaturg Mateusz Szymanówka. Wir erwarten mit Spannung und großer Freude die Entscheidung der Jury! \nEintritt frei mit Zählkarte \n
URL:https://www.strawanzerin.at/termin/award-ceremony-impulstanz-young-choreographers-award-2/
LOCATION:Volkstheater – Rote Bar\, Arthur-Schnitzler-Platz 1\, 1070\, Wien\, 1070\, Österreich
CATEGORIES:Gratis,Kunst/Kultur,Tanz,Wien
ORGANIZER;CN="ImPulsTanz":MAILTO:info@impulstanz.com
END:VEVENT
END:VCALENDAR