BEGIN:VCALENDAR
VERSION:2.0
PRODID:-//STRAWANZERIN - ECPv4.9.5//NONSGML v1.0//EN
CALSCALE:GREGORIAN
METHOD:PUBLISH
X-WR-CALNAME:STRAWANZERIN
X-ORIGINAL-URL:https://www.strawanzerin.at
X-WR-CALDESC:Veranstaltungen im STRAWANZERIN
BEGIN:VTIMEZONE
TZID:"Europe/Helsinki"
BEGIN:DAYLIGHT
TZOFFSETFROM:+0200
TZOFFSETTO:+0300
TZNAME:EEST
DTSTART:20170326T010000
END:DAYLIGHT
BEGIN:STANDARD
TZOFFSETFROM:+0300
TZOFFSETTO:+0200
TZNAME:EET
DTSTART:20171029T010000
END:STANDARD
END:VTIMEZONE
BEGIN:VEVENT
DTSTART;TZID="Europe/Helsinki":20170219T110000
DTEND;TZID="Europe/Helsinki":20170219T150000
DTSTAMP:20260422T080407
CREATED:20170208T110750Z
LAST-MODIFIED:20170210T104851Z
UID:39678-1487502000-1487516400@www.strawanzerin.at
SUMMARY:Baby-Kinder-Flohmarkt So\,19.Feb. Wien-Modecenter
DESCRIPTION:Riesiger Baby-Kinder-FLOHMARKT in 1030 Wien\, Leopold-Böhm-Str.8\, MGC Modecenter-Messehalle von 11-15 Uhr. In unserem riesigen Saal bieten über 200 Aussteller eine große Auswahl an Babyausstattung\, Kinderkleidung\, Spielzeug\, Kinderbücher\, Fahrräder\, Videospiele\, Spielkonsolen\, Playmobil\, Lego und vieles mehr zum Verkauf an. Familiengerechte Öffnungszeiten (11-15h). 700 Parkplätze am Gelände direkt gegenüber dem Saaleingang (€3 Tagespauschale). A23 und A4 Abfahrt St.Marx\, 2.Ampel rechts. U3 Gasometer. Buffet\, Wickelraum\, Stillbereich\, Besuchergarderobe\, Kinderwagen-Abstellraum\, Gratis-WLAN. Eintritt frei! Tische und Sessel vorhanden\, Platz für Kleiderstange. Standplätze online reservieren auf  http://geburtsallianz.at/termine/flohmarkt/baby-kinder-flohmarkt/index.html \nTermine für 2017:\nSonntag\, 19. Februar 2017\nSonntag\, 12. März 2017\nSonntag\, 23. April 2017\nSonntag\, 21. Mai 2017\nSonntag\, 20. August 2017\nSonntag\, 24. September 2017\nSonntag\, 22. Oktober 2017\nSonntag\, 19. November 2017\nSonntag\, 17. Dezember 2017\njeweils von 11-15h \nAlle Infos auf unserer Website www.geburtsallianz.at/termine/flohmarkt \n
URL:https://www.strawanzerin.at/termin/baby-kinder-flohmarkt-so19-feb-wien-modecenter/
LOCATION:MGC Modecenter-Messehalle\, Leopold-Böhm-Str.8\, 1030 Wien\, Wien\, 1030\, Österreich
CATEGORIES:Deutsch,Flohmarkt,Gratis,Sonstiges,Wien
ATTACH;FMTTYPE=image/jpeg:https://www.strawanzerin.at/wp-content/uploads/2017/02/flohmarkt-2016.jpg
ORGANIZER;CN="Geburtsallianz%20%C3%96sterreich":MAILTO:info@geburtsallianz.at
GEO:48.1851667;16.4112043
X-APPLE-STRUCTURED-LOCATION;VALUE=URI;X-ADDRESS=MGC Modecenter-Messehalle Leopold-Böhm-Str.8 1030 Wien Wien 1030 Österreich;X-APPLE-RADIUS=500;X-TITLE=Leopold-Böhm-Str.8:geo:16.4112043,48.1851667
END:VEVENT
END:VCALENDAR