BEGIN:VCALENDAR
VERSION:2.0
PRODID:-//STRAWANZERIN - ECPv4.9.5//NONSGML v1.0//EN
CALSCALE:GREGORIAN
METHOD:PUBLISH
X-WR-CALNAME:STRAWANZERIN
X-ORIGINAL-URL:https://www.strawanzerin.at
X-WR-CALDESC:Veranstaltungen im STRAWANZERIN
BEGIN:VTIMEZONE
TZID:"Europe/Vienna"
BEGIN:DAYLIGHT
TZOFFSETFROM:+0100
TZOFFSETTO:+0200
TZNAME:CEST
DTSTART:20190331T010000
END:DAYLIGHT
BEGIN:STANDARD
TZOFFSETFROM:+0200
TZOFFSETTO:+0100
TZNAME:CET
DTSTART:20191027T010000
END:STANDARD
END:VTIMEZONE
BEGIN:VEVENT
DTSTART;TZID="Europe/Vienna":20191206T220000
DTEND;TZID="Europe/Vienna":20191207T060000
DTSTAMP:20260423T180840
CREATED:20191202T144544Z
LAST-MODIFIED:20191202T144544Z
UID:70572-1575669600-1575698400@www.strawanzerin.at
SUMMARY:Back on the Dancefloor (90s & 80s Party)
DESCRIPTION:Abtanzen\, Mitsingen\, Abfeiern … \ndie größten Hits der 90er und 80er\njeden Freitag (◕‿◕) Back on the Dancefloor \nDie 90s & 80s Party im Weberknecht\nmit DJ Lexxus & friends \n♛ Eintritt frei\n♛ Die ganze Nacht: Tequila 1\,70\n♛ Lambda Labs Sound System für klaren Klang und dicken Bass \n
URL:https://www.strawanzerin.at/termin/back-on-the-dancefloor-90s-80s-party-2/2019-12-06/
LOCATION:Weberknecht Wien\, Lerchenfelder Gürtel 47-49\, Wien\, Wien\, 1160\, Österreich
CATEGORIES:Musik,Party
ATTACH;FMTTYPE=image/jpeg:https://www.strawanzerin.at/wp-content/uploads/2019/11/Back-on-the-Dancefloor-02.jpg
ORGANIZER;CN="Weberknecht":MAILTO:https://www.weberknecht.net/contact/
GEO:48.2101896;16.3384916
X-APPLE-STRUCTURED-LOCATION;VALUE=URI;X-ADDRESS=Weberknecht Wien Lerchenfelder Gürtel 47-49 Wien Wien 1160 Österreich;X-APPLE-RADIUS=500;X-TITLE=Lerchenfelder Gürtel 47-49:geo:16.3384916,48.2101896
END:VEVENT
END:VCALENDAR