BEGIN:VCALENDAR
VERSION:2.0
PRODID:-//STRAWANZERIN - ECPv4.9.5//NONSGML v1.0//EN
CALSCALE:GREGORIAN
METHOD:PUBLISH
X-WR-CALNAME:STRAWANZERIN
X-ORIGINAL-URL:https://www.strawanzerin.at
X-WR-CALDESC:Veranstaltungen im STRAWANZERIN
BEGIN:VTIMEZONE
TZID:"Europe/Vienna"
BEGIN:DAYLIGHT
TZOFFSETFROM:+0100
TZOFFSETTO:+0200
TZNAME:CEST
DTSTART:20180325T010000
END:DAYLIGHT
BEGIN:STANDARD
TZOFFSETFROM:+0200
TZOFFSETTO:+0100
TZNAME:CET
DTSTART:20181028T010000
END:STANDARD
END:VTIMEZONE
BEGIN:VEVENT
DTSTART;TZID="Europe/Vienna":20180420T190000
DTEND;TZID="Europe/Vienna":20180420T210000
DTSTAMP:20260420T213736
CREATED:20180321T111029Z
LAST-MODIFIED:20180326T092650Z
UID:53682-1524250800-1524258000@www.strawanzerin.at
SUMMARY:Barbara Ambrusch-Rapp | KinderHeimatBox-Geschichten
DESCRIPTION:Seit Jahren sammelt die im Rosental aufgewachsene Kärntnerin Barbara Ambrusch-Rapp die ihr anvertrauten persönlichen Relikte und Briefe von Menschen unterschiedlicher Herkunft\, Zeugnisse individueller Zugänge zum Begriff Heimat. Die dahinterstehenden Geschichten sind Ausgangsbasis für einen Zyklus aus Collagen\, Zeichnungen und Objekten\, die als subjektive Neuinterpretationen und Annäherungsversuche der Künstlerin im Raum stehen. \nVernissage am Freitag\, 20.04.2018 um 19 Uhr\nGalerie im Markushof | Evang. Superintendentur | Italiener Str. 38 | 9500 Villach\nÖffnungszeiten: Montag bis Freitag 09.00 bis 12.00 Uhr\, Dienstag und Mittwoch 13.30 bis 16.00 Uhr untv bis 22. Mai 2018 um 12.00 Uhr \n
URL:https://www.strawanzerin.at/termin/barbara-ambrusch-rapp-kinderheimatbox-geschichten/
LOCATION:Galerie im Markushof\, Italiener Str. 38 (Evangelische Superintendentur)\, Villach\, Kärnten\, 9500\, Österreich
CATEGORIES:Ausstellung
ATTACH;FMTTYPE=image/jpeg:https://www.strawanzerin.at/wp-content/uploads/2018/03/2017-Neue-Welt-Baumeisterin-in-Kinderschuhen-24x18_Titel.jpg
GEO:46.60809;13.8420537
X-APPLE-STRUCTURED-LOCATION;VALUE=URI;X-ADDRESS=Galerie im Markushof Italiener Str. 38 (Evangelische Superintendentur) Villach Kärnten 9500 Österreich;X-APPLE-RADIUS=500;X-TITLE=Italiener Str. 38 (Evangelische Superintendentur):geo:13.8420537,46.60809
END:VEVENT
END:VCALENDAR