BEGIN:VCALENDAR
VERSION:2.0
PRODID:-//STRAWANZERIN - ECPv4.9.5//NONSGML v1.0//EN
CALSCALE:GREGORIAN
METHOD:PUBLISH
X-WR-CALNAME:STRAWANZERIN
X-ORIGINAL-URL:https://www.strawanzerin.at
X-WR-CALDESC:Veranstaltungen im STRAWANZERIN
BEGIN:VTIMEZONE
TZID:"Europe/Vienna"
BEGIN:DAYLIGHT
TZOFFSETFROM:+0100
TZOFFSETTO:+0200
TZNAME:CEST
DTSTART:20210328T010000
END:DAYLIGHT
BEGIN:STANDARD
TZOFFSETFROM:+0200
TZOFFSETTO:+0100
TZNAME:CET
DTSTART:20211031T010000
END:STANDARD
END:VTIMEZONE
BEGIN:VEVENT
DTSTART;TZID="Europe/Vienna":20210529T190000
DTEND;TZID="Europe/Vienna":20210529T210000
DTSTAMP:20260421T002129
CREATED:20210428T130225Z
LAST-MODIFIED:20210526T091018Z
UID:76854-1622314800-1622322000@www.strawanzerin.at
SUMMARY:Barbara Ambrusch-Rapp zeigt „Tränenhaut / Solznakoža“ im Kraigher Haus
DESCRIPTION:In dieser interdisziplinären Ausstellung in der Galerie im historischen Kraigher Haus legt Ambrusch-Rapp den Fokus auf die offenen Wunden einer Gesellschaft\, deren Mitglieder an ihrer Identitätsfindung und Neuorientierung laborieren.\nDie Kraigher-Mlczoch Gedächtnisausstellung zeigt einen „Blick hinter die Kulissen“ des Öl-Gemäldes „Das letzte Abendmahl“\, das erstmals ausgestellt wird. \nVernissage „Tränenhaut / Solznakoža“ und Liveperformance „Balkanroute“ am 29. Mai 2021 um 19.00 Uhr. Ausstellung und – wenn möglich – Vernissage finden nach den geltenden COVID-Regeln statt. \nÖffnungszeiten: Samstag & Sonntag 15.00 bis 18.00 Uhr und jederzeit nach Vereinbarung.\nBis 5. September 2021. Freier Eintritt! \nLesung Karin Prucha am 30. Juli 2021 um 19 Uhr:\n„Anderland | das eigene. das andere. das fremde / druga dežela | lastno. ono drugo. tuje“ \n
URL:https://www.strawanzerin.at/termin/barbara-ambrusch-rapp-zeigt-traenenhaut-solznakoza-im-kraigher-haus/2021-05-29/
LOCATION:Galerie im historischen Kraigher Haus\, Am Kraigherweg 25\, Feistritz im Rosental\, Kärnten\, 9181\, Österreich
CATEGORIES:Ausstellung,Gratis
ATTACH;FMTTYPE=image/jpeg:https://www.strawanzerin.at/wp-content/uploads/2021/04/2021-traenenhaut_AmbruschRapp.jpg
ORGANIZER;CN="Kraigher%20Haus%20Kulturverein":MAILTO:klaus.kraigher@gmail.com
END:VEVENT
END:VCALENDAR