BEGIN:VCALENDAR
VERSION:2.0
PRODID:-//STRAWANZERIN - ECPv4.9.5//NONSGML v1.0//EN
CALSCALE:GREGORIAN
METHOD:PUBLISH
X-WR-CALNAME:STRAWANZERIN
X-ORIGINAL-URL:https://www.strawanzerin.at
X-WR-CALDESC:Veranstaltungen im STRAWANZERIN
BEGIN:VTIMEZONE
TZID:"Europe/Vienna"
BEGIN:DAYLIGHT
TZOFFSETFROM:+0100
TZOFFSETTO:+0200
TZNAME:CEST
DTSTART:20250330T010000
END:DAYLIGHT
BEGIN:STANDARD
TZOFFSETFROM:+0200
TZOFFSETTO:+0100
TZNAME:CET
DTSTART:20251026T010000
END:STANDARD
END:VTIMEZONE
BEGIN:VEVENT
DTSTART;TZID="Europe/Vienna":20251112T200000
DTEND;TZID="Europe/Vienna":20251112T220000
DTSTAMP:20260420T134116
CREATED:20250925T121721Z
LAST-MODIFIED:20250925T121721Z
UID:109807-1762977600-1762984800@www.strawanzerin.at
SUMMARY:Barbara Balldini „Höhepunkte“
DESCRIPTION:Die Aufklärerin der Nation geht in den wohlverdienten Unruhestand. Doch vorher fegt Sie noch mit ihrem Abschiedsprogramm „Höhepunkte“ über die Bühne. Hier vereint Balldini das Lustigste und Spannendste aus acht Kabarettprogrammen: Alles\, was Sie schon immer über die angeblich schönste Sache der Welt wissen wollten. Sie erklärt die Dos and Don’ts im Schlafzimmer ebenso wie Vorlieben und Neigungen\, die das menschliche Dasein bereichern. \nSie gibt Beziehungstipps für den Alltag und erzählt Anekdoten aus ihrer Praxis. Sie beantwortet geheime Fragen\, klärt Mythen auf oder spricht über die Auswirkungen von Pornografie auf unsere Sexualität. Und nicht zuletzt entlastet sie Paare\, die Angst haben\, weil „das im Bett“ immer weniger funktioniert und ist mit ihrem Wissen für Jung und Alt eine Inspiration.\n„Höhepunkte“ funktioniert dabei aber stets als eigenständiges Kabarettprogramm und ist somit weit mehr als klassisches „Best-Of“. Neben den unzähligen Hihi- und Haha-Momenten gibt es dabei auch viele Aha-Erkenntnisse – denn wie immer gilt die Devise: Aufklärung mit Lach- UND Lerngarantie! \n
URL:https://www.strawanzerin.at/termin/barbara-balldini-hoehepunkte/
LOCATION:Papierfabrik Varieté\, Kirchenplatz 9\, Kleinneusiedl\, Niederösterreich\, 2431
CATEGORIES:Niederösterreich,Theater/Kabarett
ATTACH;FMTTYPE=image/jpeg:https://www.strawanzerin.at/wp-content/uploads/2025/09/FB-Barbara-Balldini-c-TimErtl.jpg
ORGANIZER;CN="Papierfabrik%20Variet%C3%A9":MAILTO:info@papierfabrik-variete.com
END:VEVENT
END:VCALENDAR