BEGIN:VCALENDAR
VERSION:2.0
PRODID:-//STRAWANZERIN - ECPv4.9.5//NONSGML v1.0//EN
CALSCALE:GREGORIAN
METHOD:PUBLISH
X-WR-CALNAME:STRAWANZERIN
X-ORIGINAL-URL:https://www.strawanzerin.at
X-WR-CALDESC:Veranstaltungen im STRAWANZERIN
BEGIN:VTIMEZONE
TZID:"Europe/Vienna"
BEGIN:DAYLIGHT
TZOFFSETFROM:+0100
TZOFFSETTO:+0200
TZNAME:CEST
DTSTART:20170326T010000
END:DAYLIGHT
BEGIN:STANDARD
TZOFFSETFROM:+0200
TZOFFSETTO:+0100
TZNAME:CET
DTSTART:20171029T010000
END:STANDARD
END:VTIMEZONE
BEGIN:VEVENT
DTSTART;TZID="Europe/Vienna":20171216T160000
DTEND;TZID="Europe/Vienna":20171216T180000
DTSTAMP:20260421T173852
CREATED:20171110T132039Z
LAST-MODIFIED:20171110T132039Z
UID:49135-1513440000-1513447200@www.strawanzerin.at
SUMMARY:Barbershop Company lädt zum Christmas Special im Stil der 1950’er
DESCRIPTION:Was haben der Advent\, die perfekte Rasur und authentischer Rockabilly-Sound gemeinsam? Wer das erfahren möchte\, schaut am Samstag\, dem 16. Dezember\, zwischen 16 und 18 Uhr in der neu eröffneten Barbershop Company in Wien-Penzing vorbei. Dort präsentiert das »59’ Ramblers Duo« sein Christmas Special mit Hits aus den Late Fifties und Early Sixties. Der Eintritt ist frei. \nBild: Alexander »Sasha« Ploner und Ronald Pretsch alias »Ronny Gomez« (v.l.n.r.)\, Foto/© Silke Bernhardt \n
URL:https://www.strawanzerin.at/termin/barbershop-company-laedt-zum-christmas-special-im-stil-der-1950er/
LOCATION:Barbershop Company\, Hütteldorfer Straße 127\, Wien\, Wien\, 1140\, Österreich
CATEGORIES:Gratis,Musik,Wien
ATTACH;FMTTYPE=image/jpeg:https://www.strawanzerin.at/wp-content/uploads/2017/11/image003-Kopie.jpg
GEO:48.1988374;16.3105913
X-APPLE-STRUCTURED-LOCATION;VALUE=URI;X-ADDRESS=Barbershop Company Hütteldorfer Straße 127 Wien Wien 1140 Österreich;X-APPLE-RADIUS=500;X-TITLE=Hütteldorfer Straße 127:geo:16.3105913,48.1988374
END:VEVENT
END:VCALENDAR