BEGIN:VCALENDAR
VERSION:2.0
PRODID:-//STRAWANZERIN - ECPv4.9.5//NONSGML v1.0//EN
CALSCALE:GREGORIAN
METHOD:PUBLISH
X-WR-CALNAME:STRAWANZERIN
X-ORIGINAL-URL:https://www.strawanzerin.at
X-WR-CALDESC:Veranstaltungen im STRAWANZERIN
BEGIN:VTIMEZONE
TZID:"Europe/Vienna"
BEGIN:DAYLIGHT
TZOFFSETFROM:+0100
TZOFFSETTO:+0200
TZNAME:CEST
DTSTART:20240331T010000
END:DAYLIGHT
BEGIN:STANDARD
TZOFFSETFROM:+0200
TZOFFSETTO:+0100
TZNAME:CET
DTSTART:20241027T010000
END:STANDARD
END:VTIMEZONE
BEGIN:VEVENT
DTSTART;TZID="Europe/Vienna":20241119T170000
DTEND;TZID="Europe/Vienna":20241119T200000
DTSTAMP:20260420T234017
CREATED:20240611T115435Z
LAST-MODIFIED:20240611T115435Z
UID:100034-1732035600-1732046400@www.strawanzerin.at
SUMMARY:Barrierefrei kommunizieren
DESCRIPTION:Barrierefreiheit ist mehr als Rampen und Lifte. Auch schwierige Texte und schwer zugängliche Informationen können Barrieren sein.\nRund 1 Million Menschen in Österreich können nicht gut lesen – aus unterschiedlichen Gründen. Sie brauchen Texte in leicht verständlicher Sprache\, um am gesellschaftlichen Leben teilhaben zu können.\nWer sind die Zielgruppen? Was brauchen sie? Wie können wir sie erreichen?\nIm Workshop erfahren Sie\, wie sich Leichte Sprache entwickelt hat und welche rechtlichen Grundlagen es dafür gibt. Und Sie lernen die wichtigsten Regeln\, um Texte so zu schreiben\, dass Ihre Zielgruppe sie versteht. Beispiel aus der Praxis zeigen die breiten Anwendungsmöglichkeiten von leicht verständlicher Sprache.\nGerne können Sie vorab Texte einreichen\, die wir in Leichte Sprache übersetzen. Bitte schicken Sie dazu Ihre Texte vorab bis spätestens 13.11.2024 an goldberger@basiskultur.at \nZur Referentin:\nMag.a Doris Becker ist Politikwissenschaftlerin\, Kommunikationsexpertin und Trainerin für Erwachsenenbildung. Seit 2017 ist sie bei capito Wien zertifizierte Fachkraft für Leicht Lesen\, Projektmanagement\, Übersetzerin sowie Workshop- und Lehrgangsleiterin. \n
URL:https://www.strawanzerin.at/termin/barrierefrei-kommunizieren/
LOCATION:Vereinslokal BASIS.KULTUR.WIEN\, Reuenthalgasse 2-4/1/R02\, Wien\, 1150\, Österreich
CATEGORIES:Gratis,Wien,Workshop
ATTACH;FMTTYPE=image/jpeg:https://www.strawanzerin.at/wp-content/uploads/2024/06/StartupStockPhotos.jpg
ORGANIZER;CN="Basis.Kultur.Wien":MAILTO:presse@basiskultur.at
END:VEVENT
END:VCALENDAR