BEGIN:VCALENDAR
VERSION:2.0
PRODID:-//STRAWANZERIN - ECPv4.9.5//NONSGML v1.0//EN
CALSCALE:GREGORIAN
METHOD:PUBLISH
X-WR-CALNAME:STRAWANZERIN
X-ORIGINAL-URL:https://www.strawanzerin.at
X-WR-CALDESC:Veranstaltungen im STRAWANZERIN
BEGIN:VTIMEZONE
TZID:"Europe/Vienna"
BEGIN:DAYLIGHT
TZOFFSETFROM:+0100
TZOFFSETTO:+0200
TZNAME:CEST
DTSTART:20210328T010000
END:DAYLIGHT
BEGIN:STANDARD
TZOFFSETFROM:+0200
TZOFFSETTO:+0100
TZNAME:CET
DTSTART:20211031T010000
END:STANDARD
END:VTIMEZONE
BEGIN:VEVENT
DTSTART;TZID="Europe/Vienna":20210916T050000
DTEND;TZID="Europe/Vienna":20210917T003000
DTSTAMP:20260420T145326
CREATED:20210818T163434Z
LAST-MODIFIED:20210825T110648Z
UID:79654-1631768400-1631838600@www.strawanzerin.at
SUMMARY:Basis.Kunstmesse findet 2021 im Wiener U-Bahn-Netz statt
DESCRIPTION:Anders als vor der Pandemie präsentiert sich die Basis.Kunstmesse heuer dezentral im neuen\, Corona-konformen Gewand. Von 16.9. bis 15.10. stehen in den Showrooms des Wiener U-Bahn-Netzes ausgewählte Arbeiten autodidaktischer KünstlerInnen im Rampenlicht. Die Bandbreite der Werke reicht von Malerei\, Grafik und Druck bis hin zu Fotografie und Skulptur. Das Ausstellungserlebnis an unterschiedlichen Verkehrsknotenpunkten ist wochentags von 5 bis 0:30 Uhr und an Samstagen\, Sonn- und Feiertagen durchgehend möglich. \nTermine und Orte:\n16.-30. September 2021: Showroom Karlsplatz Lichtraum (U-Bahn-Station Karlsplatz\, Eingang Resselpark)\n02.-15. Oktober 2021: Showroom Karlsplatz (U-Bahn-Station Karlsplatz\, U4\, U2\, U1)\n02.-15. Oktober 2021: Showroom Volkstheater (U-Bahn-Station Volkstheater\, U3)\n02.-15. Oktober 2021: Showroom Altes Landgut (U-Bahn-Station Altes Landgut U1) \nFoto/© Ewa Kaja \n
URL:https://www.strawanzerin.at/termin/basis-kunstmesse-findet-2021-im-wiener-u-bahn-netz-statt/2021-09-16/
LOCATION:Showroom im Wiener U-Bahn-Netz\, Wien\, Wien\, Wien\, Österreich
CATEGORIES:Ausstellung,Gratis,Wien
ATTACH;FMTTYPE=image/jpeg:https://www.strawanzerin.at/wp-content/uploads/2021/08/Basis.Kunstmesse-21.jpg
ORGANIZER;CN="Basis.Kultur.Wien":MAILTO:presse@basiskultur.at
END:VEVENT
END:VCALENDAR