BEGIN:VCALENDAR
VERSION:2.0
PRODID:-//STRAWANZERIN - ECPv4.9.5//NONSGML v1.0//EN
CALSCALE:GREGORIAN
METHOD:PUBLISH
X-WR-CALNAME:STRAWANZERIN
X-ORIGINAL-URL:https://www.strawanzerin.at
X-WR-CALDESC:Veranstaltungen im STRAWANZERIN
BEGIN:VTIMEZONE
TZID:"Europe/Vienna"
BEGIN:DAYLIGHT
TZOFFSETFROM:+0100
TZOFFSETTO:+0200
TZNAME:CEST
DTSTART:20180325T010000
END:DAYLIGHT
BEGIN:STANDARD
TZOFFSETFROM:+0200
TZOFFSETTO:+0100
TZNAME:CET
DTSTART:20181028T010000
END:STANDARD
END:VTIMEZONE
BEGIN:VEVENT
DTSTART;TZID="Europe/Vienna":20181121T190000
DTEND;TZID="Europe/Vienna":20181122T210000
DTSTAMP:20260421T163333
CREATED:20181115T074536Z
LAST-MODIFIED:20181115T074536Z
UID:60663-1542826800-1542920400@www.strawanzerin.at
SUMMARY:Beat me up\, post-internet influencer! (Objects / Time/ Cracks)
DESCRIPTION:Künstler_innen: Wolfgang Breuer\, K8 Hardy\, Georg Petermichl\, Heti Prack\, George Rei\, Sabine Schwaighofer\, Linda Stupart\, Astrid Wagner\, Rudolf Weidenauer \nDie Ausgabe der Kubatur des Kabinetts beschäftigt sich mit Geschichten\, Bildern und\nÄsthetiken\, die sich den Bedingungen der gegenwärtigen Kunstproduktion widmet. Die\nAusstellung verwendet dabei Ausdrucksformen wie Performance\, Video\, Skulptur und\nPlakatarbeiten. Die Wahl des Mediums ist jedoch nicht so entscheidend\, wie das leidenschaftliche Interesse an dem Kraftfeld zwischen Politik\, Kunst und Theorie\, welches als Referenzrahmen dieses Projekts gelten kann. Daneben gibt es einerseits ein verlässlich auftauchendes paradoxes Panoptikum der Selbstinszenierung\, wie andererseits auch Versuche die Bedingungen der künstlerischen Praxis so zu gestalten\, dass sie nicht reflexhaft der Zwangslogik der Aufmerksamkeitsökonomie folgt. Bei „Beat me up\, post internet influencer! (Objects / Time/ Cracks)“ handelt es sich um ein klares Bekenntnis gegen allgegenwärtige Vorstellungen einer Vorzeige-Authentizität\, einer subjektorientierten Autorschaft\, aber bei großer und widerspruchsreicher Sympathie für eine obsessive Werkautonomie! \nModeration: Gustav Wildner \ndj´s: guy the guy\, das_em \n
URL:https://www.strawanzerin.at/termin/beat-me-up-post-internet-influencer-objects-time-cracks/
CATEGORIES:Ausstellung,DJ-Line,Englisch,Gratis
ATTACH;FMTTYPE=image/jpeg:https://www.strawanzerin.at/wp-content/uploads/2018/11/unnamed.jpg
END:VEVENT
END:VCALENDAR