BEGIN:VCALENDAR
VERSION:2.0
PRODID:-//STRAWANZERIN - ECPv4.9.5//NONSGML v1.0//EN
CALSCALE:GREGORIAN
METHOD:PUBLISH
X-WR-CALNAME:STRAWANZERIN
X-ORIGINAL-URL:https://www.strawanzerin.at
X-WR-CALDESC:Veranstaltungen im STRAWANZERIN
BEGIN:VTIMEZONE
TZID:"Europe/Helsinki"
BEGIN:DAYLIGHT
TZOFFSETFROM:+0200
TZOFFSETTO:+0300
TZNAME:EEST
DTSTART:20150329T010000
END:DAYLIGHT
BEGIN:STANDARD
TZOFFSETFROM:+0300
TZOFFSETTO:+0200
TZNAME:EET
DTSTART:20151025T010000
END:STANDARD
END:VTIMEZONE
BEGIN:VEVENT
DTSTART;TZID="Europe/Helsinki":20150305T190000
DTEND;TZID="Europe/Helsinki":20150305T190000
DTSTAMP:20260420T100854
CREATED:20150211T143151Z
LAST-MODIFIED:20150309T142002Z
UID:11199-1425582000-1425582000@www.strawanzerin.at
SUMMARY:BEGREIFBAR- Keramik und Malerei
DESCRIPTION:Elisabeth Banach\nMargit Nohel\nUlrike Wahl- Tesén Chavéz\nVernissage: 05.März 2015\, 19:00\nAusstellungsdauer: bis 10.April 2015\nBegrüßung: Kurt Neuhold\nEröffnung: Mag.art. Marie-Theres Gallnbrunner\nThema: „Wir sind Künstlerinnen und Kunsttherapeutinnen“\nKlang und Stimme: Angela Stummer/Harfe www.angelandharp.com \n
URL:https://www.strawanzerin.at/termin/begreifbar-keramik-und-malerei/2015-03-05/
LOCATION:POOL7\, Rudolfsplatz 9\, Wien\, Wien\, 1010\, Österreich
CATEGORIES:Ausstellung,freie Spende,Wien
ATTACH;FMTTYPE=image/jpeg:https://www.strawanzerin.at/wp-content/uploads/2015/02/Flyer-begreifbar_DRUCK_-10.jpeg
ORGANIZER;CN="Philippa%20Rudnay":MAILTO:office@pool7.at
GEO:48.213565;16.3719448
X-APPLE-STRUCTURED-LOCATION;VALUE=URI;X-ADDRESS=POOL7 Rudolfsplatz 9 Wien Wien 1010 Österreich;X-APPLE-RADIUS=500;X-TITLE=Rudolfsplatz 9:geo:16.3719448,48.213565
END:VEVENT
END:VCALENDAR