BEGIN:VCALENDAR
VERSION:2.0
PRODID:-//STRAWANZERIN - ECPv4.9.5//NONSGML v1.0//EN
CALSCALE:GREGORIAN
METHOD:PUBLISH
X-WR-CALNAME:STRAWANZERIN
X-ORIGINAL-URL:https://www.strawanzerin.at
X-WR-CALDESC:Veranstaltungen im STRAWANZERIN
BEGIN:VTIMEZONE
TZID:"Europe/Vienna"
BEGIN:DAYLIGHT
TZOFFSETFROM:+0100
TZOFFSETTO:+0200
TZNAME:CEST
DTSTART:20220327T010000
END:DAYLIGHT
BEGIN:STANDARD
TZOFFSETFROM:+0200
TZOFFSETTO:+0100
TZNAME:CET
DTSTART:20221030T010000
END:STANDARD
END:VTIMEZONE
BEGIN:VEVENT
DTSTART;TZID="Europe/Vienna":20220406T200000
DTEND;TZID="Europe/Vienna":20220406T213000
DTSTAMP:20260422T033208
CREATED:20220329T121845Z
LAST-MODIFIED:20220329T121845Z
UID:83474-1649275200-1649280600@www.strawanzerin.at
SUMMARY:BEI ALLER LIEBE – JETZT WIRD GEFOTZT! Eine Produktion von FTZN-Kollektiv
DESCRIPTION:Der Sinn des Lebens liegt einzig und allein in der Liebe\, in der partnerschaftlichen Liebe selbstverständlich. Kaum ein gesellschaftlicher Codex wird uns so früh in die Schädeldecke gehämmert wie dieser. Wer am Ende allein dasteht\, hat verloren. Nur mit der „besseren Hälfte“ an deiner Seite hat dein Dasein eine Bedeutung.\nWährend uns schon Platon mit seiner Fabel vom „Kugelmenschen“ diese existentielle Dringlichkeit vor Augen führte\, kommt die Popkultur von heute ebenso wenig umhin\, uns mit rosa Herzchen und Unendlichkeitszeichen vollzuballern. \nTja\, und dazwischen sind die FTZN: junge Feministinnen\, die mit trügerischen Liebesidealen abrechnen wollen – von Patriarchat und Kapitalismus Hand in Hand zum Frühstück serviert – aber trotzdem das heimliche Verlangen in sich hegen\, doch bitte endlich mit jemandem den Google-Kalender synchronisieren zu dürfen. \nMit viel Humor\, schonungsloser Ehrlichkeit und einer großen Portion Liebeskritik entlarven sie in ihrer neuen Stückentwicklung die eigenen verqueren Vorstellungen vom allgegenwärtigen Konzept der Zweisamkeit und stoßen dabei auf so manchen rosaroten Nerv. \nText: Benita Martins\, Hannah Rang\, Runa Schymanski\, Fritzi Wartenberg | Regie: Fritzi Wartenberg | Bühne: Joseph Eckhart | Musik: Drahthaus \nMit: Benita Martins\, Hannah Rang\, Runa Schymanski \n
URL:https://www.strawanzerin.at/termin/bei-aller-liebe-jetzt-wird-gefotzt-eine-produktion-von-ftzn-kollektiv/
LOCATION:Kosmos Theater Wien\, Siebensterngasse 42-44\, Wien\, Wien\, 1070\, Österreich
CATEGORIES:Theater/Kabarett
ATTACH;FMTTYPE=image/jpeg:https://www.strawanzerin.at/wp-content/uploads/2022/03/FTZN-Plakat-Foto-scaled.jpg
ORGANIZER;CN="Kosmos%20Theater%20Wien":MAILTO:office@kosmostheater.at
GEO:48.2023536;16.3513259
X-APPLE-STRUCTURED-LOCATION;VALUE=URI;X-ADDRESS=Kosmos Theater Wien Siebensterngasse 42-44 Wien Wien 1070 Österreich;X-APPLE-RADIUS=500;X-TITLE=Siebensterngasse 42-44:geo:16.3513259,48.2023536
END:VEVENT
END:VCALENDAR