BEGIN:VCALENDAR
VERSION:2.0
PRODID:-//STRAWANZERIN - ECPv4.9.5//NONSGML v1.0//EN
CALSCALE:GREGORIAN
METHOD:PUBLISH
X-WR-CALNAME:STRAWANZERIN
X-ORIGINAL-URL:https://www.strawanzerin.at
X-WR-CALDESC:Veranstaltungen im STRAWANZERIN
BEGIN:VTIMEZONE
TZID:"Europe/Paris"
BEGIN:DAYLIGHT
TZOFFSETFROM:+0100
TZOFFSETTO:+0200
TZNAME:CEST
DTSTART:20150329T010000
END:DAYLIGHT
BEGIN:STANDARD
TZOFFSETFROM:+0200
TZOFFSETTO:+0100
TZNAME:CET
DTSTART:20151025T010000
END:STANDARD
END:VTIMEZONE
BEGIN:VEVENT
DTSTART;TZID="Europe/Paris":20150923T200000
DTEND;TZID="Europe/Paris":20150923T213000
DTSTAMP:20260423T143905
CREATED:20150910T113726Z
LAST-MODIFIED:20150915T101817Z
UID:19682-1443038400-1443043800@www.strawanzerin.at
SUMMARY:Bei Auftritt Mord - Krimidebüt von Sabine Marx
DESCRIPTION:Die Autorin Sabine Marx liest aus ihrem Krimi. Schauplatz der Handlung ist ihre Heimatstadt Wien. —  Zehntausend aufgeregte Teenager warten auf den Beginn des Sean Granger-Konzerts in der Wiener Stadthalle. Kaum sind die ersten Töne verklungen\, wird der Künstler vor seinen Fans erschossen.  \n
URL:https://www.strawanzerin.at/termin/bei-auftritt-mord-krimidebuet-von-sabine-marx/
LOCATION:Traditionscafé Industrie\, Margaretengürtel 12\, Wien\, Wien\, 1050\, Österreich
CATEGORIES:Deutsch,freie Spende,Literatur,Sonstiges,Wien
ATTACH;FMTTYPE=image/jpeg:https://www.strawanzerin.at/wp-content/uploads/2015/09/sabine_marx_fb.jpg
ORGANIZER;CN="Ruth%20Binder":MAILTO:event@cafe-industrie.at
GEO:48.1838252;16.3664539
X-APPLE-STRUCTURED-LOCATION;VALUE=URI;X-ADDRESS=Traditionscafé Industrie Margaretengürtel 12 Wien Wien 1050 Österreich;X-APPLE-RADIUS=500;X-TITLE=Margaretengürtel 12:geo:16.3664539,48.1838252
END:VEVENT
END:VCALENDAR