BEGIN:VCALENDAR
VERSION:2.0
PRODID:-//STRAWANZERIN - ECPv4.9.5//NONSGML v1.0//EN
CALSCALE:GREGORIAN
METHOD:PUBLISH
X-WR-CALNAME:STRAWANZERIN
X-ORIGINAL-URL:https://www.strawanzerin.at
X-WR-CALDESC:Veranstaltungen im STRAWANZERIN
BEGIN:VTIMEZONE
TZID:"Europe/Vienna"
BEGIN:DAYLIGHT
TZOFFSETFROM:+0100
TZOFFSETTO:+0200
TZNAME:CEST
DTSTART:20220327T010000
END:DAYLIGHT
BEGIN:STANDARD
TZOFFSETFROM:+0200
TZOFFSETTO:+0100
TZNAME:CET
DTSTART:20221030T010000
END:STANDARD
END:VTIMEZONE
BEGIN:VEVENT
DTSTART;TZID="Europe/Vienna":20220114T100000
DTEND;TZID="Europe/Vienna":20220114T140000
DTSTAMP:20260422T060651
CREATED:20211231T070739Z
LAST-MODIFIED:20220113T154542Z
UID:82288-1642154400-1642168800@www.strawanzerin.at
SUMMARY:Benefizbücherflohmarkt zugunsten der Notschlafstelle Vinzibett
DESCRIPTION:Bücherflohmarkt zugunsten der Notschlafstelle Vinzibett \n
URL:https://www.strawanzerin.at/termin/benefizbuecherflohmarkt-zugunsten-der-notschlafstelle-vinzibett/
LOCATION:Vinzishop\, Ecke Ottakringerstraße/Veronikagasse 25\, Wien\, 1170\, Österreich
CATEGORIES:Flohmarkt
END:VEVENT
END:VCALENDAR