BEGIN:VCALENDAR
VERSION:2.0
PRODID:-//STRAWANZERIN - ECPv4.9.5//NONSGML v1.0//EN
CALSCALE:GREGORIAN
METHOD:PUBLISH
X-WR-CALNAME:STRAWANZERIN
X-ORIGINAL-URL:https://www.strawanzerin.at
X-WR-CALDESC:Veranstaltungen im STRAWANZERIN
BEGIN:VTIMEZONE
TZID:"Europe/Vienna"
BEGIN:DAYLIGHT
TZOFFSETFROM:+0100
TZOFFSETTO:+0200
TZNAME:CEST
DTSTART:20220327T010000
END:DAYLIGHT
BEGIN:STANDARD
TZOFFSETFROM:+0200
TZOFFSETTO:+0100
TZNAME:CET
DTSTART:20221030T010000
END:STANDARD
END:VTIMEZONE
BEGIN:VEVENT
DTSTART;TZID="Europe/Vienna":20220601T193000
DTEND;TZID="Europe/Vienna":20220601T230000
DTSTAMP:20260424T153051
CREATED:20220329T094634Z
LAST-MODIFIED:20220329T121137Z
UID:83575-1654111800-1654124400@www.strawanzerin.at
SUMMARY:Benefizkonzert \,\,Gott sei Dank''
DESCRIPTION:Gott-sei-Dank“\nSo lautet der Titel unseres Benefizkonzerts\, das wir zum Dank für den Schutz während der Pandemie veranstalten. Gleichzeitig bitten wir mit dem Benefizkonzert um Ihre großzügige Unterstützung für den Bau unseres „Sankt-Karl-Borromäus-Krankenhauses“ in einer medizinisch sehr unterversorgten Region Südostafrikas.\nDie „singenden Priester“\, Pfarrer Franz Brei\, der Franziskanerpater Sandesh Manuel\, Father Jerome Ambarusi und Father Stephen Egwu singen unter der musikalischen Leitung von Elias Stejskal Lieder\, die Himmel und Erde und uns verbinden. Durch den Abend führt die bekannte Moderatorin Andrea Radakovits. \n
URL:https://www.strawanzerin.at/termin/benefizkonzert-gott-sei-dank/
LOCATION:Wiener Konzerthaus\, Lothringerstraße 20\, Wien\, Wien\, 1030\, Österreich
CATEGORIES:Wien
ATTACH;FMTTYPE=image/jpeg:https://www.strawanzerin.at/wp-content/uploads/2022/03/Logo_missio_Oe_Kombination_Kreuz.jpg
ORGANIZER;CN="Missio":MAILTO:missio@missio.at
GEO:48.2007746;16.3772233
X-APPLE-STRUCTURED-LOCATION;VALUE=URI;X-ADDRESS=Wiener Konzerthaus Lothringerstraße 20 Wien Wien 1030 Österreich;X-APPLE-RADIUS=500;X-TITLE=Lothringerstraße 20:geo:16.3772233,48.2007746
END:VEVENT
END:VCALENDAR