BEGIN:VCALENDAR
VERSION:2.0
PRODID:-//STRAWANZERIN - ECPv4.9.5//NONSGML v1.0//EN
CALSCALE:GREGORIAN
METHOD:PUBLISH
X-WR-CALNAME:STRAWANZERIN
X-ORIGINAL-URL:https://www.strawanzerin.at
X-WR-CALDESC:Veranstaltungen im STRAWANZERIN
BEGIN:VTIMEZONE
TZID:"Europe/Vienna"
BEGIN:DAYLIGHT
TZOFFSETFROM:+0100
TZOFFSETTO:+0200
TZNAME:CEST
DTSTART:20190331T010000
END:DAYLIGHT
BEGIN:STANDARD
TZOFFSETFROM:+0200
TZOFFSETTO:+0100
TZNAME:CET
DTSTART:20191027T010000
END:STANDARD
END:VTIMEZONE
BEGIN:VEVENT
DTSTART;TZID="Europe/Vienna":20191207T140000
DTEND;TZID="Europe/Vienna":20191207T210000
DTSTAMP:20260423T195357
CREATED:20191122T084948Z
LAST-MODIFIED:20191128T110049Z
UID:70473-1575727200-1575752400@www.strawanzerin.at
SUMMARY:Benefizmatinee zugunsten des Vereins KINDERLAND STEIERMARK
DESCRIPTION:Bereits zum 7. Mal veranstaltet Iris Stern eine Benefizmatinee zugunsten eines sozialen Projekts.  Diesmal wird der Verein Kinderland Steiermark gebenefizt (http://www.kinderland-steiermark.at/home/ueber-uns/). \nEine Vielzahl an tollen Künstlerinnen und Künstlern sind auch heuer wieder dabei – wie jedes Jahr gibt es alle 30 Minuten einen neuen künstlerischen (zumeist musikalischen) Act – insgesamt 12 Acts! \nGratis Eintritt und gratis Buffet! Spenden vor Ort an das Kinderland Steiermark sind allerdings ausdrücklich erwünscht 😉 \nKinder sind wie immer herzlich willkommen: Es wird auch einen eigenen\, kleinen Spielraum geben.\nEs kann sehr gerne Spielzeug für den gemeinsamen Gebrauch mitgenommen werden.  \n
URL:https://www.strawanzerin.at/termin/benefizmatinee-zugunsten-des-vereins-kinderland-steiermark/
LOCATION:Kaffeebar Quentin\, Kaiserstrasse 96\, 1070 Wien\, Wien\, 1070\, Österreich
CATEGORIES:Fest,freie Spende,Gratis,Musik,Wien
ATTACH;FMTTYPE=image/jpeg:https://www.strawanzerin.at/wp-content/uploads/2019/11/Benefizmatinee-2019_Einladung.jpg
ORGANIZER;CN="Iris%20Stern":MAILTO:geschichtenimernst@gmx.at
GEO:48.2069198;16.3396873
X-APPLE-STRUCTURED-LOCATION;VALUE=URI;X-ADDRESS=Kaffeebar Quentin Kaiserstrasse 96 1070 Wien Wien 1070 Österreich;X-APPLE-RADIUS=500;X-TITLE=Kaiserstrasse 96:geo:16.3396873,48.2069198
END:VEVENT
END:VCALENDAR